BEGIN:VCALENDAR
VERSION:2.0
PRODID:-//InvisionCommunity Events 4.7.14//EN
METHOD:PUBLISH
CALSCALE:GREGORIAN
REFRESH-INTERVAL:PT15M
X-PUBLISHED-TTL:PT15M
X-WR-CALNAME:The Elder Scrolls Online
NAME:The Elder Scrolls Online
BEGIN:VTIMEZONE
TZID:Europe/London
TZURL:http://tzurl.org/zoneinfo/Europe/London
X-LIC-LOCATION:Europe/London
BEGIN:DAYLIGHT
TZOFFSETFROM:+0000
TZOFFSETTO:+0100
TZNAME:BST
DTSTART:20200329T020000Z
RRULE:FREQ=YEARLY;BYMONTH=3;BYDAY=-1SU
END:DAYLIGHT
BEGIN:STANDARD
TZOFFSETFROM:+0100
TZOFFSETTO:+0000
TZNAME:GMT
DTSTART:20201025T020000Z
RRULE:FREQ=YEARLY;BYMONTH=10;BYDAY=-1SU
END:STANDARD
END:VTIMEZONE
BEGIN:VEVENT
SUMMARY:[TESO] Мировые Боссы
DTSTAMP:20201024T171521Z
SEQUENCE:0
UID:8206-1-afb15bc42254ad5fb0481ce5e9c8144d@forum.bandits-clan.ru
ORGANIZER;CN="Timbra":web@bandits-clan.ru
DESCRIPTION:20:00 по Мск Пр
	иглашаю всех
	 желающих 0+ уро
	вень на увлека
	тельное путеше
	ствие по Мировым
	 боссам   \nКуда
	 пойдем? Реш
	им голосован
	ием в ТимСпи
	к (Также пр
	едлагайте
	 в коммента
	риях под пос
	том)! Прогр
	амма события:
	Ежедневные за
	дания на боссов
	 в любом регион
	е Тамриеля\, по
	-желанию гру
	ппы.\nЗакроем
	 Дольмены/Г
	ейзеры/Бури\
	nСоберем не
	которые Дост
	ижения\, немн
	ого прокачае
	мся\, подзара
	ботаем золото
	 и хорошо пове
	селимся!\nСобере
	м много черепушек\,
	 доступных во время со
	бытия\n\nГлавные требов
	ания:TeamSpeak. Канал 
	Мировые Боссы
	.\nТабард гильдии бан
	дитов (можно купить в
	 магазине гильдии за 2
	000 зол.)\nЛюбой уров
	ень\, любая экипировка\n\nПриоритет н
	абора в группу по записи  
DTSTART:20201025T170000Z
ATTENDEE;CN="Timbra";CUTYPE=INDIVIDUAL;PARTSTAT=ACCEPTED:web
	@bandits-clan.ru
ATTENDEE;CN="Ил Арион";CUTYPE=INDIVIDUAL;PARTSTAT=ACC
	EPTED:web@bandits-clan.ru
ATTENDEE;CN="Deren";CUTYPE=INDIVIDUAL;PARTSTAT=ACCEPTED:web@
	bandits-clan.ru
ATTENDEE;CN="xMayoRx";CUTYPE=INDIVIDUAL;PARTSTAT=ACCEPTED:we
	b@bandits-clan.ru
ATTENDEE;CN="Miikha";CUTYPE=INDIVIDUAL;PARTSTAT=ACCEPTED:web
	@bandits-clan.ru
ATTENDEE;CN="H8eR";CUTYPE=INDIVIDUAL;PARTSTAT=ACCEPTED:web@b
	andits-clan.ru
ATTENDEE;CN="F4N7";CUTYPE=INDIVIDUAL;PARTSTAT=ACCEPTED:web@b
	andits-clan.ru
ATTENDEE;CN="Helenar";CUTYPE=INDIVIDUAL;PARTSTAT=ACCEPTED:we
	b@bandits-clan.ru
END:VEVENT
END:VCALENDAR
