BEGIN:VCALENDAR
VERSION:2.0
PRODID:-//InvisionCommunity Events 4.7.14//EN
METHOD:PUBLISH
CALSCALE:GREGORIAN
REFRESH-INTERVAL:PT15M
X-PUBLISHED-TTL:PT15M
X-WR-CALNAME:The Elder Scrolls Online
NAME:The Elder Scrolls Online
BEGIN:VTIMEZONE
TZID:Europe/London
TZURL:http://tzurl.org/zoneinfo/Europe/London
X-LIC-LOCATION:Europe/London
BEGIN:DAYLIGHT
TZOFFSETFROM:+0000
TZOFFSETTO:+0100
TZNAME:BST
DTSTART:20200329T020000Z
RRULE:FREQ=YEARLY;BYMONTH=3;BYDAY=-1SU
END:DAYLIGHT
BEGIN:STANDARD
TZOFFSETFROM:+0100
TZOFFSETTO:+0000
TZNAME:GMT
DTSTART:20201025T020000Z
RRULE:FREQ=YEARLY;BYMONTH=10;BYDAY=-1SU
END:STANDARD
END:VTIMEZONE
BEGIN:VEVENT
SUMMARY:(ТЕСО) Открытый рейд в вет Клауд
	рест+0
DTSTAMP:20201020T171248Z
SEQUENCE:2
UID:8196-1-afb15bc42254ad5fb0481ce5e9c8144d@forum.bandits-clan.ru
ORGANIZER;CN="Miloscpolski":web@bandits-clan.ru
DESCRIPTION: Обучающий триал vet Cloudr
	est (Клаудрест)\nТребуется Summ
	erset. Начало события 20:00 
	по МСК\nСбор начинается в 
	19:40 Если вы записались\,
	 но не пришли до 20:0
	0\, ваше место мож
	ет занять любой желающий из
	 чата. Требования:\n- Звание 
	от Bandit/Guard и выше\n- Подтвер
	жденный ДПС 35к+ для дд\n- 
	Танк и хил аттестация ранга norma
	l\n- Табард гильдии\n- TeamS
	peak\n- Отметка о пр
	охождении но
	рмал версии 
	триала с гиль
	дией\n(Если вы 
	не соответст
	вуете определ
	енному требовани
	ю\, но уверены\,
	 что хорошо сп
	равитесь со сво
	ей задачей\, пр
	осьба связать
	ся со мной в 
	игре)\nНал
	ичие аттестаци
	и для всех учас
	тников обязател
	ьно. Нам потребу
	ются:\n- 3 танка (
	потребуются сбо
	рки без максимизации хп
	 на ласте в силу механик 
	триала)\n- 2 хила\n- 7 дд (в
	сем иметь щиты и подхи
	лки\, приоритет для rdd)
	 Чтобы попасть в рейд:\n
	1. Нажать кнопку \"ПО
	ЙДУ\" справа.\n2. За
	пись в комментар
	иях обязательна (с
	 указанием роли и 
	ID\, если он отл
	ичается от 
	форумного). На
	бор будет пр
	оизводиться по з
	аписям в комментариях\n \n
	Предварительный список:\nМТ\, портал 
	1- @BanditAsar\nМТ\, портал 2-@Miloscpolski\nОТ @Kate
	Snow\n \nГрупповой хил-@dgalz1\nКайт хил-@ForestD
	ragonBro\n \ndd 1 портал\, левая сторона - @A
	rtempapa\ndd 1 портал\, правая сторона - 
	@Porchen\ndd 2 портал\, левая сторона - @Lon
	gffelow\ndd 2 портал\, правая сторона - @e
	dwm\ndd замена 1 портала @Demirurg\ndd замена 2 
	портала @Hordent\ndd orbs duty - @WeaverDen
DTSTART:20201021T170000Z
ATTENDEE;CN="KateSnow";CUTYPE=INDIVIDUAL;PARTSTAT=ACCEPTED:w
	eb@bandits-clan.ru
ATTENDEE;CN="Miloscpolski";CUTYPE=INDIVIDUAL;PARTSTAT=ACCEPT
	ED:web@bandits-clan.ru
ATTENDEE;CN="ForestDragonBro";CUTYPE=INDIVIDUAL;PARTSTAT=ACC
	EPTED:web@bandits-clan.ru
ATTENDEE;CN="jawluiz";CUTYPE=INDIVIDUAL;PARTSTAT=ACCEPTED:we
	b@bandits-clan.ru
ATTENDEE;CN="Artempapa";CUTYPE=INDIVIDUAL;PARTSTAT=ACCEPTED:
	web@bandits-clan.ru
ATTENDEE;CN="BanditAsar";CUTYPE=INDIVIDUAL;PARTSTAT=ACCEPTED
	:web@bandits-clan.ru
ATTENDEE;CN="edwm";CUTYPE=INDIVIDUAL;PARTSTAT=ACCEPTED:web@b
	andits-clan.ru
ATTENDEE;CN="Dgalz";CUTYPE=INDIVIDUAL;PARTSTAT=ACCEPTED:web@
	bandits-clan.ru
ATTENDEE;CN="Demirurg";CUTYPE=INDIVIDUAL;PARTSTAT=ACCEPTED:w
	eb@bandits-clan.ru
ATTENDEE;CN="Hordent";CUTYPE=INDIVIDUAL;PARTSTAT=ACCEPTED:we
	b@bandits-clan.ru
ATTENDEE;CN="Weaver";CUTYPE=INDIVIDUAL;PARTSTAT=ACCEPTED:web
	@bandits-clan.ru
ATTENDEE;CN="Porschen";CUTYPE=INDIVIDUAL;PARTSTAT=ACCEPTED:w
	eb@bandits-clan.ru
ATTENDEE;CN="Lihar";CUTYPE=INDIVIDUAL;PARTSTAT=ACCEPTED:web@
	bandits-clan.ru
ATTENDEE;CN="KOMINDANTE";CUTYPE=INDIVIDUAL;PARTSTAT=ACCEPTED
	:web@bandits-clan.ru
END:VEVENT
END:VCALENDAR
