BEGIN:VCALENDAR
VERSION:2.0
PRODID:-//InvisionCommunity Events 4.7.14//EN
METHOD:PUBLISH
CALSCALE:GREGORIAN
REFRESH-INTERVAL:PT15M
X-PUBLISHED-TTL:PT15M
X-WR-CALNAME:The Elder Scrolls Online
NAME:The Elder Scrolls Online
BEGIN:VTIMEZONE
TZID:Europe/London
TZURL:http://tzurl.org/zoneinfo/Europe/London
X-LIC-LOCATION:Europe/London
BEGIN:DAYLIGHT
TZOFFSETFROM:+0000
TZOFFSETTO:+0100
TZNAME:BST
DTSTART:20200329T020000Z
RRULE:FREQ=YEARLY;BYMONTH=3;BYDAY=-1SU
END:DAYLIGHT
BEGIN:STANDARD
TZOFFSETFROM:+0100
TZOFFSETTO:+0000
TZNAME:GMT
DTSTART:20201025T020000Z
RRULE:FREQ=YEARLY;BYMONTH=10;BYDAY=-1SU
END:STANDARD
END:VTIMEZONE
BEGIN:VEVENT
SUMMARY:[TESO] vDSA - Арена Драгонстара
DTSTAMP:20201013T142548Z
SEQUENCE:2
UID:8162-1-afb15bc42254ad5fb0481ce5e9c8144d@forum.bandits-clan.ru
ORGANIZER;CN="Timbra":web@bandits-clan.ru
DESCRIPTION:С 20:00 по МС
	К Приглаш
	аю всех желающих 
	пройти ветеранское испы
	тание Арена Драгонстара (v
	DSA).\nот 350 ЧП (если у
	 вас есть аттестаци
	я\, можно сделать исключение) Ну
	жно:\n1 Танк (Нормал+)\,\n1 Хил\n2
	 DD (dps 30k+) Арена Драго
	нстара разбита на 10 э
	тапов\,\nДлительнос
	ть прохождения: 1 -
	 4 часа (во мног
	ом зависит от
	 опытности к
	оманды и в бо
	льшей части от 
	танка) Для уч
	астия нажимай
	те справа на кн
	опку Пойду\, а в
	 комментариях
	 внизу пишите
	 свою роль и игровой 
	ID. Обязательно наличие гильдейской н
	акидки Daggerfall/Vanguard/Rising Bandit
	s Сбор в Тимспике
	 (канал Подземелья и Арена) за 10 минут 
	до начала события.
DTSTART:20201021T170000Z
ATTENDEE;CN="CHESTER";CUTYPE=INDIVIDUAL;PARTSTAT=ACCEPTED:we
	b@bandits-clan.ru
ATTENDEE;CN="Бурый95";CUTYPE=INDIVIDUAL;PARTSTAT=ACCEPT
	ED:web@bandits-clan.ru
ATTENDEE;CN="genialBalu";CUTYPE=INDIVIDUAL;PARTSTAT=ACCEPTED
	:web@bandits-clan.ru
ATTENDEE;CN="PISTER";CUTYPE=INDIVIDUAL;PARTSTAT=ACCEPTED:web
	@bandits-clan.ru
END:VEVENT
END:VCALENDAR
