BEGIN:VCALENDAR
VERSION:2.0
PRODID:-//InvisionCommunity Events 4.7.14//EN
METHOD:PUBLISH
CALSCALE:GREGORIAN
REFRESH-INTERVAL:PT15M
X-PUBLISHED-TTL:PT15M
X-WR-CALNAME:The Elder Scrolls Online
NAME:The Elder Scrolls Online
BEGIN:VTIMEZONE
TZID:Europe/London
TZURL:http://tzurl.org/zoneinfo/Europe/London
X-LIC-LOCATION:Europe/London
BEGIN:DAYLIGHT
TZOFFSETFROM:+0000
TZOFFSETTO:+0100
TZNAME:BST
DTSTART:20200329T020000Z
RRULE:FREQ=YEARLY;BYMONTH=3;BYDAY=-1SU
END:DAYLIGHT
BEGIN:STANDARD
TZOFFSETFROM:+0100
TZOFFSETTO:+0000
TZNAME:GMT
DTSTART:20201025T020000Z
RRULE:FREQ=YEARLY;BYMONTH=10;BYDAY=-1SU
END:STANDARD
END:VTIMEZONE
BEGIN:VEVENT
SUMMARY:[FFXIV] Поиск Сокровищ
DTSTAMP:20201013T083629Z
SEQUENCE:0
UID:8159-1-afb15bc42254ad5fb0481ce5e9c8144d@forum.bandits-clan.ru
ORGANIZER;CN="Irdis":web@bandits-clan.ru
DESCRIPTION:Погружаем
	ся в глубины 
	рандома\, в на
	дежде вытащить несм
	етные горы золота из каж
	дого портала.\nНачало в 20
	.00-20.30 Требования:\nПер
	сонаж 70 уровня или
	 выше\nЛимит групп
	ы - 8 человек. Если
	 желающих будет бол
	ьше - разделимся на разные группы.\
	nПройден квест Treasures and Tribul
	ations  Рекомендации:\nДля ка
	рт Штормблада:\nПройден
	 сюжет Stormblood для доступа ко в
	сем локациям\nХотя бы 2 карты Timewor
	n Gazelleskin Map (с высоким ш
	ансом можно с
	обрать из зале
	жей ресурсов 7
	0 уровня или 
	купить на маркетборде)
	 Для карт Шадоубрингерс:\
	nПройден сюжет Shadowbringer
	s для доступа ко всем локациям\
	nХотя бы 2 карты сокровищ Timeworn Z
	onureskin Map (с высоким ш
	ансом можно с
	обрать из зале
	жей ресурсов 80 ур
	овня или купить на
	 маркетборде)\nПрод
	олжительность:\n2-3 часа или пока 
	не кончатся карты http://1.bp.blogspot.com/--Nk7v_yfZBs/Ts
	FbLeS64lI/AAAAAAAAAEo/driXyeu4XDU/s1600/treasuremaplarge.jpg
DTSTART:20201016T170000Z
ATTENDEE;CN="Irdis";CUTYPE=INDIVIDUAL;PARTSTAT=ACCEPTED:web@
	bandits-clan.ru
END:VEVENT
END:VCALENDAR
