BEGIN:VCALENDAR
VERSION:2.0
PRODID:-//InvisionCommunity Events 4.7.14//EN
METHOD:PUBLISH
CALSCALE:GREGORIAN
REFRESH-INTERVAL:PT15M
X-PUBLISHED-TTL:PT15M
X-WR-CALNAME:The Elder Scrolls Online
NAME:The Elder Scrolls Online
BEGIN:VTIMEZONE
TZID:Europe/London
TZURL:http://tzurl.org/zoneinfo/Europe/London
X-LIC-LOCATION:Europe/London
BEGIN:DAYLIGHT
TZOFFSETFROM:+0000
TZOFFSETTO:+0100
TZNAME:BST
DTSTART:20200329T020000Z
RRULE:FREQ=YEARLY;BYMONTH=3;BYDAY=-1SU
END:DAYLIGHT
BEGIN:STANDARD
TZOFFSETFROM:+0100
TZOFFSETTO:+0000
TZNAME:GMT
DTSTART:20201025T020000Z
RRULE:FREQ=YEARLY;BYMONTH=10;BYDAY=-1SU
END:STANDARD
END:VTIMEZONE
BEGIN:VEVENT
SUMMARY:[FFXIV] Bozjan Southern Front
DTSTAMP:20201012T175343Z
SEQUENCE:2
UID:8158-1-afb15bc42254ad5fb0481ce5e9c8144d@forum.bandits-clan.ru
ORGANIZER;CN="Irdis":web@bandits-clan.ru
DESCRIPTION:Начинае
	м фарм нов
	ого масштабного и
	нстанса! Для доступа не
	обходимо\nЗавершить сюже
	т Shadowbringers\nЗавершить серию аль
	янс-рейдов дополнения Stormblood - Ret
	urn to Ivalice. Начало цепочки в квесте Dramati
	s Personae в городе Kugane\nВыполнить побочн
	ый квест  Fire in the For
	ge и получить перво
	е реликтовое оружие Требования:\
	nПерсонаж 71+ уровня 
DTSTART:20201015T150000Z
END:VEVENT
END:VCALENDAR
