BEGIN:VCALENDAR
VERSION:2.0
PRODID:-//InvisionCommunity Events 4.7.14//EN
METHOD:PUBLISH
CALSCALE:GREGORIAN
REFRESH-INTERVAL:PT15M
X-PUBLISHED-TTL:PT15M
X-WR-CALNAME:The Elder Scrolls Online
NAME:The Elder Scrolls Online
BEGIN:VTIMEZONE
TZID:Europe/London
TZURL:http://tzurl.org/zoneinfo/Europe/London
X-LIC-LOCATION:Europe/London
BEGIN:DAYLIGHT
TZOFFSETFROM:+0000
TZOFFSETTO:+0100
TZNAME:BST
DTSTART:20200329T020000Z
RRULE:FREQ=YEARLY;BYMONTH=3;BYDAY=-1SU
END:DAYLIGHT
BEGIN:STANDARD
TZOFFSETFROM:+0100
TZOFFSETTO:+0000
TZNAME:GMT
DTSTART:20201025T020000Z
RRULE:FREQ=YEARLY;BYMONTH=10;BYDAY=-1SU
END:STANDARD
END:VTIMEZONE
BEGIN:VEVENT
SUMMARY:Учебный nCR(+1/2/3)
DTSTAMP:20201012T110215Z
SEQUENCE:2
UID:8151-1-afb15bc42254ad5fb0481ce5e9c8144d@forum.bandits-clan.ru
ORGANIZER;CN="Alex_Stamm":web@bandits-clan.ru
DESCRIPTION:Клаудрест для самы
	х маленьких.  Кого жду:7 
	ДД — 300+ ЧП(ОГ)\, с подтвержде
	нным ДПС от 30к на 3млн\n2
	 хила — 300+ ЧП(ОГ)\, ж
	елательно с аттестацией уровня
	 \"Ветеран\" и сетом Worm's Raiment.\n2
	 танка — 300+ ЧП(ОГ)\, наличие сетов 
	Ebon и Stonekeeper хотя бы у одно
	го.\n \nБудем пробова
	ть закрыть сразу 
	+3\, но если не выйд
	ет\, будем постепенно п
	онижать сложность.  \nСБО
	Р В ТС В КАНАЛЕ FIREFLY ЗА
	 15 МИНУТ ДО НАЧАЛА
	 СОБЫТИЯ! \nНЕ З
	АБУДЬТЕ ТАБАРД
	. \nВ комментариях
	 пишем роль и об
	язательно жмём 
	кнопку \"Подтве
	рдить\".\nИтоговый состав рейда остается 
	на усмотрение РЛ. 
DTSTART:20201016T170000Z
ATTENDEE;CN="Alex_Stamm";CUTYPE=INDIVIDUAL;PARTSTAT=ACCEPTED
	:web@bandits-clan.ru
ATTENDEE;CN="Helenar";CUTYPE=INDIVIDUAL;PARTSTAT=ACCEPTED:we
	b@bandits-clan.ru
ATTENDEE;CN="Crimson";CUTYPE=INDIVIDUAL;PARTSTAT=ACCEPTED:we
	b@bandits-clan.ru
ATTENDEE;CN="TimeSoul";CUTYPE=INDIVIDUAL;PARTSTAT=ACCEPTED:w
	eb@bandits-clan.ru
ATTENDEE;CN="Reyesa";CUTYPE=INDIVIDUAL;PARTSTAT=ACCEPTED:web
	@bandits-clan.ru
ATTENDEE;CN="Royscoap";CUTYPE=INDIVIDUAL;PARTSTAT=ACCEPTED:w
	eb@bandits-clan.ru
ATTENDEE;CN="Kapitul";CUTYPE=INDIVIDUAL;PARTSTAT=ACCEPTED:we
	b@bandits-clan.ru
ATTENDEE;CN="Karasinka";CUTYPE=INDIVIDUAL;PARTSTAT=ACCEPTED:
	web@bandits-clan.ru
END:VEVENT
END:VCALENDAR
