BEGIN:VCALENDAR
VERSION:2.0
PRODID:-//InvisionCommunity Events 4.7.14//EN
METHOD:PUBLISH
CALSCALE:GREGORIAN
REFRESH-INTERVAL:PT15M
X-PUBLISHED-TTL:PT15M
X-WR-CALNAME:The Elder Scrolls Online
NAME:The Elder Scrolls Online
BEGIN:VTIMEZONE
TZID:Europe/London
TZURL:http://tzurl.org/zoneinfo/Europe/London
X-LIC-LOCATION:Europe/London
BEGIN:DAYLIGHT
TZOFFSETFROM:+0000
TZOFFSETTO:+0100
TZNAME:BST
DTSTART:20200329T020000Z
RRULE:FREQ=YEARLY;BYMONTH=3;BYDAY=-1SU
END:DAYLIGHT
BEGIN:STANDARD
TZOFFSETFROM:+0100
TZOFFSETTO:+0000
TZNAME:GMT
DTSTART:20201025T020000Z
RRULE:FREQ=YEARLY;BYMONTH=10;BYDAY=-1SU
END:STANDARD
END:VTIMEZONE
BEGIN:VEVENT
SUMMARY:21.00 [GW2] Обучение по Strike Missions
DTSTAMP:20201012T021711Z
SEQUENCE:0
UID:8142-1-afb15bc42254ad5fb0481ce5e9c8144d@forum.bandits-clan.ru
ORGANIZER;CN="Mr Dno":web@bandits-clan.ru
DESCRIPTION:Приглашаю на гильдейный
	 ивент :    Обучение по Strike Missions  
	Дата: 15.10.2020 (четверг)\nВремя: 21.00 м
	ск\nЛидер: ArgiraSkarlet Требования: нали
	чие TeamSpeak или Discord\, экипировк
	а не ниже exotic по мете\, знание 
	ротации\, открыта локация Eye of 
	the North.\nОписание страйк миссий: https://wiki.guild
	wa.../Strike_Mission
DTSTART;VALUE=DATE:20201015
END:VEVENT
END:VCALENDAR
