BEGIN:VCALENDAR
VERSION:2.0
PRODID:-//InvisionCommunity Events 4.7.14//EN
METHOD:PUBLISH
CALSCALE:GREGORIAN
REFRESH-INTERVAL:PT15M
X-PUBLISHED-TTL:PT15M
X-WR-CALNAME:The Elder Scrolls Online
NAME:The Elder Scrolls Online
BEGIN:VTIMEZONE
TZID:Europe/London
TZURL:http://tzurl.org/zoneinfo/Europe/London
X-LIC-LOCATION:Europe/London
BEGIN:DAYLIGHT
TZOFFSETFROM:+0000
TZOFFSETTO:+0100
TZNAME:BST
DTSTART:20200329T020000Z
RRULE:FREQ=YEARLY;BYMONTH=3;BYDAY=-1SU
END:DAYLIGHT
BEGIN:STANDARD
TZOFFSETFROM:+0100
TZOFFSETTO:+0000
TZNAME:GMT
DTSTART:20201025T020000Z
RRULE:FREQ=YEARLY;BYMONTH=10;BYDAY=-1SU
END:STANDARD
END:VTIMEZONE
BEGIN:VEVENT
SUMMARY:[TESO] Фармовое вет испытание 
	Солнечный шпиль
DTSTAMP:20201008T105337Z
SEQUENCE:2
UID:8117-1-afb15bc42254ad5fb0481ce5e9c8144d@forum.bandits-clan.ru
ORGANIZER;CN="Sinbann":web@bandits-clan.ru
DESCRIPTION: В 19:00 по МСК при
	глашаю всех опы
	тных от 500 ОГ пр
	ойти ветеранску
	ю версию испытания \
	"Солнечный шпиль\" для 
	сбора сетов: - Йолна
	крин\;\n- Ложный б
	ог\;\n- Локкестиз
	. Для успешного
	 прохождения нам потреб
	уются: 2 танка (аттестац
	ия от \"нормал\")\, 1 хил (ат
	тестация от \"ветеран\")\
	, 8 ДД (аттестация от 
	35к). \nДля участия н
	еобходимо нажат
	ь кнопку \"Пойду\" с
	права по курсу и
	 написать свой 
	игровой ID и р
	оль ниже.\nМе
	роприятие п
	редназначено
	 только для о
	пытных игр
	оков\, как м
	инимум име
	ющих отмет
	ку о прохо
	ждении три
	ала Внимание
	\, требуется 
	глава Эльсв
	ейр. Дресскод 
	парадный (таба
	рд) со всем н
	еобходимым (ремкомпл
	екты\, камни душ). Об
	язательно присутстви
	е в Teamspeak канал Фа
	рмовое испытание
	.\nСбор в гильдхолле (
	Большое топальское у
	бежище\, тп на @Kibert) Обязательно на
	личие аддонов:\nCode Combat Alert\nRaid Notifier\nBandit Us
	er Interface Не учебное испытание\, отметки 
	ставиться не будут
DTSTART:20201011T160000Z
ATTENDEE;CN="Sinbann";CUTYPE=INDIVIDUAL;PARTSTAT=ACCEPTED:we
	b@bandits-clan.ru
ATTENDEE;CN="Daimik";CUTYPE=INDIVIDUAL;PARTSTAT=ACCEPTED:web
	@bandits-clan.ru
ATTENDEE;CN="Kandibobier";CUTYPE=INDIVIDUAL;PARTSTAT=ACCEPTE
	D:web@bandits-clan.ru
END:VEVENT
END:VCALENDAR
