BEGIN:VCALENDAR
VERSION:2.0
PRODID:-//InvisionCommunity Events 4.7.14//EN
METHOD:PUBLISH
CALSCALE:GREGORIAN
REFRESH-INTERVAL:PT15M
X-PUBLISHED-TTL:PT15M
X-WR-CALNAME:The Elder Scrolls Online
NAME:The Elder Scrolls Online
BEGIN:VTIMEZONE
TZID:Europe/London
TZURL:http://tzurl.org/zoneinfo/Europe/London
X-LIC-LOCATION:Europe/London
BEGIN:DAYLIGHT
TZOFFSETFROM:+0000
TZOFFSETTO:+0100
TZNAME:BST
DTSTART:20200329T020000Z
RRULE:FREQ=YEARLY;BYMONTH=3;BYDAY=-1SU
END:DAYLIGHT
BEGIN:STANDARD
TZOFFSETFROM:+0100
TZOFFSETTO:+0000
TZNAME:GMT
DTSTART:20201025T020000Z
RRULE:FREQ=YEARLY;BYMONTH=10;BYDAY=-1SU
END:STANDARD
END:VTIMEZONE
BEGIN:VEVENT
SUMMARY:[TESO] Учебное испытание vAS обучающ
	ий
DTSTAMP:20201007T093301Z
SEQUENCE:2
UID:8110-1-afb15bc42254ad5fb0481ce5e9c8144d@forum.bandits-clan.ru
ORGANIZER;CN="Skybae":web@bandits-clan.ru
DESCRIPTION:В 20.00 по МСК 
	  Приглашаю
	 всех желающ
	их в звании
	 от Бандит
	 + пройти и
	спытание
	 Изоляцио
	нный Санктуа
	рий вет Необходим
	о дополнение - заводной
	 город Нужно: 12 человек\
	, 1 танк\, 2 хилера\, оста
	льные - любые дд. 
	Сбор в ТС\, кана
	л - учебный триал.
	 Место встречи и
	зменить нельзя (гиль
	дхолл)\, дресскод - 
	парадный(табарды
	)\, за 15 минут до
	 начала события. Д
	ля участия нажима
	йте справа на кнопк
	у \"Пойду\"\, а в ко
	мментарии внизу пи
	шите свою роль и игровой ID. Обяза
	тельные аддоны: Code Combat Alert\nRaid Notifier\nBandit Use
	r Interface
DTSTART:20201010T170000Z
ATTENDEE;CN="deathwach";CUTYPE=INDIVIDUAL;PARTSTAT=ACCEPTED:
	web@bandits-clan.ru
ATTENDEE;CN="Risad";CUTYPE=INDIVIDUAL;PARTSTAT=ACCEPTED:web@
	bandits-clan.ru
ATTENDEE;CN="ruGrom";CUTYPE=INDIVIDUAL;PARTSTAT=ACCEPTED:web
	@bandits-clan.ru
ATTENDEE;CN="Гуго Де Рок";CUTYPE=INDIVIDUAL;PARTSTA
	T=ACCEPTED:web@bandits-clan.ru
ATTENDEE;CN="Vouban";CUTYPE=INDIVIDUAL;PARTSTAT=ACCEPTED:web
	@bandits-clan.ru
ATTENDEE;CN="Sirazentesis";CUTYPE=INDIVIDUAL;PARTSTAT=ACCEPT
	ED:web@bandits-clan.ru
ATTENDEE;CN="IlyaOps";CUTYPE=INDIVIDUAL;PARTSTAT=ACCEPTED:we
	b@bandits-clan.ru
ATTENDEE;CN="mortmordre";CUTYPE=INDIVIDUAL;PARTSTAT=ACCEPTED
	:web@bandits-clan.ru
ATTENDEE;CN="Daimik";CUTYPE=INDIVIDUAL;PARTSTAT=ACCEPTED:web
	@bandits-clan.ru
ATTENDEE;CN="Anhert";CUTYPE=INDIVIDUAL;PARTSTAT=ACCEPTED:web
	@bandits-clan.ru
END:VEVENT
END:VCALENDAR
