BEGIN:VCALENDAR
VERSION:2.0
PRODID:-//InvisionCommunity Events 4.7.14//EN
METHOD:PUBLISH
CALSCALE:GREGORIAN
REFRESH-INTERVAL:PT15M
X-PUBLISHED-TTL:PT15M
X-WR-CALNAME:The Elder Scrolls Online
NAME:The Elder Scrolls Online
BEGIN:VTIMEZONE
TZID:Europe/London
TZURL:http://tzurl.org/zoneinfo/Europe/London
X-LIC-LOCATION:Europe/London
BEGIN:DAYLIGHT
TZOFFSETFROM:+0000
TZOFFSETTO:+0100
TZNAME:BST
DTSTART:20200329T020000Z
RRULE:FREQ=YEARLY;BYMONTH=3;BYDAY=-1SU
END:DAYLIGHT
BEGIN:STANDARD
TZOFFSETFROM:+0100
TZOFFSETTO:+0000
TZNAME:GMT
DTSTART:20201025T020000Z
RRULE:FREQ=YEARLY;BYMONTH=10;BYDAY=-1SU
END:STANDARD
END:VTIMEZONE
BEGIN:VEVENT
SUMMARY:[TESO] vDSA - Арена Драгонстара
DTSTAMP:20201005T090236Z
SEQUENCE:2
UID:8094-1-afb15bc42254ad5fb0481ce5e9c8144d@forum.bandits-clan.ru
ORGANIZER;CN="Timbra":web@bandits-clan.ru
DESCRIPTION:С 19:00 по МС
	К Приглаш
	аю всех желающих 
	пройти ветеранское испы
	тание Арена Драгонстара (v
	DSA).\nот 350 ЧП (если у
	 вас есть аттестаци
	я\, можно сделать исключение) Ну
	жно:\n1 Танк (Нормал+)\,\n1 Хил\n2
	 DD (dps 30k+) Арена Драго
	нстара разбита на 10 э
	тапов\,\nДлительнос
	ть прохождения: 1 -
	 4 часа (во мног
	ом зависит от
	 опытности к
	оманды и в бо
	льшей части от та
	нка) Для участия 
	нажимайте справа 
	на кнопку \"Пойду\"\
	, а в комментар
	иях внизу пиш
	ите свою роль и иг
	ровой ID. Обязательно наличие ги
	льдейской накидки Daggerfall/Vanguard/Ri
	sing Bandits Сбор в Тимспик
	е (канал Подземелья и Арена) за 10 минут д
	о начала события.
DTSTART:20201007T160000Z
ATTENDEE;CN="CHESTER";CUTYPE=INDIVIDUAL;PARTSTAT=ACCEPTED:we
	b@bandits-clan.ru
END:VEVENT
END:VCALENDAR
