BEGIN:VCALENDAR
VERSION:2.0
PRODID:-//InvisionCommunity Events 4.7.14//EN
METHOD:PUBLISH
CALSCALE:GREGORIAN
REFRESH-INTERVAL:PT15M
X-PUBLISHED-TTL:PT15M
X-WR-CALNAME:The Elder Scrolls Online
NAME:The Elder Scrolls Online
BEGIN:VTIMEZONE
TZID:Europe/London
TZURL:http://tzurl.org/zoneinfo/Europe/London
X-LIC-LOCATION:Europe/London
BEGIN:DAYLIGHT
TZOFFSETFROM:+0000
TZOFFSETTO:+0100
TZNAME:BST
DTSTART:20200329T020000Z
RRULE:FREQ=YEARLY;BYMONTH=3;BYDAY=-1SU
END:DAYLIGHT
BEGIN:STANDARD
TZOFFSETFROM:+0100
TZOFFSETTO:+0000
TZNAME:GMT
DTSTART:20201025T020000Z
RRULE:FREQ=YEARLY;BYMONTH=10;BYDAY=-1SU
END:STANDARD
END:VTIMEZONE
BEGIN:VEVENT
SUMMARY:( TESO ) Открытый рейд ClearSky vHOF
DTSTAMP:20201003T131900Z
SEQUENCE:2
UID:8060-1-afb15bc42254ad5fb0481ce5e9c8144d@forum.bandits-clan.ru
ORGANIZER;CN="AleshaMad":web@bandits-clan.ru
DESCRIPTION:\nВ 17.00 Мск\nПр
	иглашаю всех желающих приня
	ть участие в Открытом рейде \"ClearSky\"\nhttp://fo
	rum.bandits...showtopic=72961 \nНеобходимо 
	:\n2 хила ( 1го будем расс
	матривать на роль в
	 статике )\n3dd ( буде
	м рассматривать 
	на роль в стати
	ке )\nТабард\n
	Тимспик\nСбо
	р в Гильд Холле Обязат
	ельно иметь основные ТРИАЛЬНЫЕ АДДОНЫ : C
	ode Combat Alert\, Raid Notifier\, Bandit User Interface.\nРе
	шение о составе группы остается за рейд
	 лидером!!!
DTSTART:20201003T160000Z
END:VEVENT
END:VCALENDAR
