BEGIN:VCALENDAR
VERSION:2.0
PRODID:-//InvisionCommunity Events 4.7.14//EN
METHOD:PUBLISH
CALSCALE:GREGORIAN
REFRESH-INTERVAL:PT15M
X-PUBLISHED-TTL:PT15M
X-WR-CALNAME:The Elder Scrolls Online
NAME:The Elder Scrolls Online
BEGIN:VTIMEZONE
TZID:Europe/London
TZURL:http://tzurl.org/zoneinfo/Europe/London
X-LIC-LOCATION:Europe/London
BEGIN:DAYLIGHT
TZOFFSETFROM:+0000
TZOFFSETTO:+0100
TZNAME:BST
DTSTART:20200329T020000Z
RRULE:FREQ=YEARLY;BYMONTH=3;BYDAY=-1SU
END:DAYLIGHT
BEGIN:STANDARD
TZOFFSETFROM:+0100
TZOFFSETTO:+0000
TZNAME:GMT
DTSTART:20201025T020000Z
RRULE:FREQ=YEARLY;BYMONTH=10;BYDAY=-1SU
END:STANDARD
END:VTIMEZONE
BEGIN:VEVENT
SUMMARY:[TESO] ПВП-Рейд \"Bad Boys Bandits\"
DTSTAMP:20201001T210906Z
SEQUENCE:0
UID:8053-1-afb15bc42254ad5fb0481ce5e9c8144d@forum.bandits-clan.ru
ORGANIZER;CN="SociophobicCat":web@bandits-clan.ru
DESCRIPTION: С 17:00 по М
	СК Готов зажиг
	ать? Присоединяйся! Мы
	 будем играть небольшой г
	руппой (small scale) и накаж
	ем всех\, кто встанет у
	 нас на пути! Если у теб
	я больше 600 ОГ и ты - з
	аядлый пвпшник\,
	 то я жду тебя в тимс
	пике\, канал Имперский город. На
	йди меня в игре - @Sociophobic-Cat
	\, в тимспике клана и
	 здесь\, на форум
	е. Пиши свою ро
	ль\, билд и кла
	сс в комментари
	ях. Соберем би
	лды друг под д
	руга\, распределим тактику - и 
	нагнем Имперский город вместе!\n0\n\n
DTSTART:20201027T140000Z
ATTENDEE;CN="SociophobicCat";CUTYPE=INDIVIDUAL;PARTSTAT=ACCE
	PTED:web@bandits-clan.ru
END:VEVENT
END:VCALENDAR
