BEGIN:VCALENDAR
VERSION:2.0
PRODID:-//InvisionCommunity Events 4.7.14//EN
METHOD:PUBLISH
CALSCALE:GREGORIAN
REFRESH-INTERVAL:PT15M
X-PUBLISHED-TTL:PT15M
X-WR-CALNAME:The Elder Scrolls Online
NAME:The Elder Scrolls Online
BEGIN:VTIMEZONE
TZID:Europe/London
TZURL:http://tzurl.org/zoneinfo/Europe/London
X-LIC-LOCATION:Europe/London
BEGIN:DAYLIGHT
TZOFFSETFROM:+0000
TZOFFSETTO:+0100
TZNAME:BST
DTSTART:20200329T020000Z
RRULE:FREQ=YEARLY;BYMONTH=3;BYDAY=-1SU
END:DAYLIGHT
BEGIN:STANDARD
TZOFFSETFROM:+0100
TZOFFSETTO:+0000
TZNAME:GMT
DTSTART:20201025T020000Z
RRULE:FREQ=YEARLY;BYMONTH=10;BYDAY=-1SU
END:STANDARD
END:VTIMEZONE
BEGIN:VEVENT
SUMMARY:( TESO ) Открытый рейд ClearSky vHOF
DTSTAMP:20201001T092912Z
SEQUENCE:0
UID:8045-1-afb15bc42254ad5fb0481ce5e9c8144d@forum.bandits-clan.ru
ORGANIZER;CN="AleshaMad":web@bandits-clan.ru
DESCRIPTION:\nВ 19.30 Мск\nПр
	иглашаю всех желающих приня
	ть участие в Открытом рейде \"ClearSky\"\nhttp://fo
	rum.bandits...showtopic=72961 Необходимо :\n3d
	d ( на замену )\nТ
	абард\nТимс
	пик\nСбор в Гиль
	д Холле Обязательно иметь ос
	новные ТРИАЛЬНЫЕ АДДОНЫ : Code Combat Alert\, Raid No
	tifier\, Bandit User Interface.\nРешени
	е о составе группы остается за рейд лид
	ером!!!
DTSTART:20201001T163000Z
END:VEVENT
END:VCALENDAR
