BEGIN:VCALENDAR
VERSION:2.0
PRODID:-//InvisionCommunity Events 4.7.14//EN
METHOD:PUBLISH
CALSCALE:GREGORIAN
REFRESH-INTERVAL:PT15M
X-PUBLISHED-TTL:PT15M
X-WR-CALNAME:The Elder Scrolls Online
NAME:The Elder Scrolls Online
BEGIN:VTIMEZONE
TZID:Europe/London
TZURL:http://tzurl.org/zoneinfo/Europe/London
X-LIC-LOCATION:Europe/London
BEGIN:DAYLIGHT
TZOFFSETFROM:+0000
TZOFFSETTO:+0100
TZNAME:BST
DTSTART:20200329T020000Z
RRULE:FREQ=YEARLY;BYMONTH=3;BYDAY=-1SU
END:DAYLIGHT
BEGIN:STANDARD
TZOFFSETFROM:+0100
TZOFFSETTO:+0000
TZNAME:GMT
DTSTART:20201025T020000Z
RRULE:FREQ=YEARLY;BYMONTH=10;BYDAY=-1SU
END:STANDARD
END:VTIMEZONE
BEGIN:VEVENT
SUMMARY:( TESO ) Открытый рейд ClearSky vHOF
DTSTAMP:20200926T071427Z
SEQUENCE:0
UID:7979-1-afb15bc42254ad5fb0481ce5e9c8144d@forum.bandits-clan.ru
ORGANIZER;CN="AleshaMad":web@bandits-clan.ru
DESCRIPTION:\nВ 17.00 по Мск\n
	Приглашаю всех желающих п
	ринять участие в Открытом рейде \"ClearSky\"\nh
	ttp://forum.bandits...showtopic=72961 Необходимо :\n3
	dd от 35к+ дпс \nТаб
	ард\nТимспи
	к\nСбор в Гильд Хо
	лле Обязательно иметь основные 
	ТРИАЛЬНЫЕ АДДОНЫ : Code Combat Alert\, Raid Notifier\, Band
	it User Interface.\nРешение о сост
	аве группы остается за рейд лидером!!!
DTSTART:20200926T140000Z
ATTENDEE;CN="Dgalz";CUTYPE=INDIVIDUAL;PARTSTAT=ACCEPTED:web@
	bandits-clan.ru
END:VEVENT
END:VCALENDAR
