BEGIN:VCALENDAR
VERSION:2.0
PRODID:-//InvisionCommunity Events 4.7.14//EN
METHOD:PUBLISH
CALSCALE:GREGORIAN
REFRESH-INTERVAL:PT15M
X-PUBLISHED-TTL:PT15M
X-WR-CALNAME:The Elder Scrolls Online
NAME:The Elder Scrolls Online
BEGIN:VTIMEZONE
TZID:Europe/London
TZURL:http://tzurl.org/zoneinfo/Europe/London
X-LIC-LOCATION:Europe/London
BEGIN:DAYLIGHT
TZOFFSETFROM:+0000
TZOFFSETTO:+0100
TZNAME:BST
DTSTART:20200329T020000Z
RRULE:FREQ=YEARLY;BYMONTH=3;BYDAY=-1SU
END:DAYLIGHT
BEGIN:STANDARD
TZOFFSETFROM:+0100
TZOFFSETTO:+0000
TZNAME:GMT
DTSTART:20201025T020000Z
RRULE:FREQ=YEARLY;BYMONTH=10;BYDAY=-1SU
END:STANDARD
END:VTIMEZONE
BEGIN:VEVENT
SUMMARY:[TESO] Фармовый испытание Эгид
	а Кин (нормал)
DTSTAMP:20200925T202815Z
SEQUENCE:2
UID:7978-1-afb15bc42254ad5fb0481ce5e9c8144d@forum.bandits-clan.ru
ORGANIZER;CN="Skybae":web@bandits-clan.ru
DESCRIPTION:В 22.00:00 по МСК Пр
	иглашаю всех желаю
	щих от 160 ОГ пофар
	мить испытание \"
	Эгида Кин\". Для п
	охода в данный три
	ал у вас должна быть глав
	а \"Греймур\" Нужно: 12 чело
	век\, 1 танка\, 0 хилер \, 
	остальные - любые 
	дд. Сбор в ТС\, к
	анал - учебный 
	триал. Место вс
	тречи изменить нельз
	я (гильдхолл)\, дресс
	код - парадный(таб
	арды)\, за 15 мин
	ут до начала собы
	тия. Для участия 
	нажимайте справа 
	на кнопку \"Пойду\"\,
	 а в комментар
	ии внизу пишите свою роль
	 и игровой ID. Обязательные аддоны Code Combat
	 Alert\nRaid Notifier\nBandit User Interface На пов
	естке дня 1 заход по максимум 30
	 минут\, для еженедельного квеста.
DTSTART:20200930T190000Z
ATTENDEE;CN="CHESTER";CUTYPE=INDIVIDUAL;PARTSTAT=ACCEPTED:we
	b@bandits-clan.ru
ATTENDEE;CN="Risad";CUTYPE=INDIVIDUAL;PARTSTAT=ACCEPTED:web@
	bandits-clan.ru
ATTENDEE;CN="deathwach";CUTYPE=INDIVIDUAL;PARTSTAT=ACCEPTED:
	web@bandits-clan.ru
ATTENDEE;CN="xMayoRx";CUTYPE=INDIVIDUAL;PARTSTAT=ACCEPTED:we
	b@bandits-clan.ru
ATTENDEE;CN="Actorion";CUTYPE=INDIVIDUAL;PARTSTAT=ACCEPTED:w
	eb@bandits-clan.ru
ATTENDEE;CN="Китана";CUTYPE=INDIVIDUAL;PARTSTAT=ACCEPT
	ED:web@bandits-clan.ru
ATTENDEE;CN="KarlowskY7";CUTYPE=INDIVIDUAL;PARTSTAT=ACCEPTED
	:web@bandits-clan.ru
ATTENDEE;CN="DeGraff";CUTYPE=INDIVIDUAL;PARTSTAT=ACCEPTED:we
	b@bandits-clan.ru
ATTENDEE;CN="СергейПА";CUTYPE=INDIVIDUAL;PARTSTAT=AC
	CEPTED:web@bandits-clan.ru
ATTENDEE;CN="Fean";CUTYPE=INDIVIDUAL;PARTSTAT=ACCEPTED:web@b
	andits-clan.ru
ATTENDEE;CN="Berrssi";CUTYPE=INDIVIDUAL;PARTSTAT=ACCEPTED:we
	b@bandits-clan.ru
ATTENDEE;CN="Elerave";CUTYPE=INDIVIDUAL;PARTSTAT=ACCEPTED:we
	b@bandits-clan.ru
ATTENDEE;CN="doomkiller87";CUTYPE=INDIVIDUAL;PARTSTAT=ACCEPT
	ED:web@bandits-clan.ru
END:VEVENT
END:VCALENDAR
