BEGIN:VCALENDAR
VERSION:2.0
PRODID:-//InvisionCommunity Events 4.7.14//EN
METHOD:PUBLISH
CALSCALE:GREGORIAN
REFRESH-INTERVAL:PT15M
X-PUBLISHED-TTL:PT15M
X-WR-CALNAME:The Elder Scrolls Online
NAME:The Elder Scrolls Online
BEGIN:VTIMEZONE
TZID:Europe/London
TZURL:http://tzurl.org/zoneinfo/Europe/London
X-LIC-LOCATION:Europe/London
BEGIN:DAYLIGHT
TZOFFSETFROM:+0000
TZOFFSETTO:+0100
TZNAME:BST
DTSTART:20200329T020000Z
RRULE:FREQ=YEARLY;BYMONTH=3;BYDAY=-1SU
END:DAYLIGHT
BEGIN:STANDARD
TZOFFSETFROM:+0100
TZOFFSETTO:+0000
TZNAME:GMT
DTSTART:20201025T020000Z
RRULE:FREQ=YEARLY;BYMONTH=10;BYDAY=-1SU
END:STANDARD
END:VTIMEZONE
BEGIN:VEVENT
SUMMARY:[TESO] ПВП-Рейд \"Bad Boys Bandits\"
DTSTAMP:20200925T171125Z
SEQUENCE:2
UID:7973-1-afb15bc42254ad5fb0481ce5e9c8144d@forum.bandits-clan.ru
ORGANIZER;CN="SociophobicCat":web@bandits-clan.ru
DESCRIPTION:С 17:00 по МС
	К Готов зажигат
	ь? Присоединяйся! Мы б
	удем играть небольшой гру
	ппой (small scale) и накажем
	 всех\, кто встанет у н
	ас на пути! Если у тебя
	 больше 600 ОГ и ты - за
	ядлый пвпшник\, 
	то я жду тебя в тимсп
	ике\, канал Имперский город. Най
	ди меня в игре - @Sociophobic-Cat\
	, в тимспике клана и
	 здесь\, на форум
	е. Пиши свою ро
	ль\, билд и кла
	сс в комментари
	ях. Соберем би
	лды друг под д
	руга\, распределим тактику - и нагнем 
	Имперский город вместе!
DTSTART:20200929T140000Z
ATTENDEE;CN="SociophobicCat";CUTYPE=INDIVIDUAL;PARTSTAT=ACCE
	PTED:web@bandits-clan.ru
END:VEVENT
END:VCALENDAR
