BEGIN:VCALENDAR
VERSION:2.0
PRODID:-//InvisionCommunity Events 4.7.14//EN
METHOD:PUBLISH
CALSCALE:GREGORIAN
REFRESH-INTERVAL:PT15M
X-PUBLISHED-TTL:PT15M
X-WR-CALNAME:The Elder Scrolls Online
NAME:The Elder Scrolls Online
BEGIN:VTIMEZONE
TZID:Europe/London
TZURL:http://tzurl.org/zoneinfo/Europe/London
X-LIC-LOCATION:Europe/London
BEGIN:DAYLIGHT
TZOFFSETFROM:+0000
TZOFFSETTO:+0100
TZNAME:BST
DTSTART:20200329T020000Z
RRULE:FREQ=YEARLY;BYMONTH=3;BYDAY=-1SU
END:DAYLIGHT
BEGIN:STANDARD
TZOFFSETFROM:+0100
TZOFFSETTO:+0000
TZNAME:GMT
DTSTART:20201025T020000Z
RRULE:FREQ=YEARLY;BYMONTH=10;BYDAY=-1SU
END:STANDARD
END:VTIMEZONE
BEGIN:VEVENT
SUMMARY:(TESO) Изоляционный Санктуарий +1 ве
	т
DTSTAMP:20200921T163030Z
SEQUENCE:2
UID:7962-1-afb15bc42254ad5fb0481ce5e9c8144d@forum.bandits-clan.ru
ORGANIZER;CN="Bandit":web@bandits-clan.ru
DESCRIPTION:С 17 00 по мс
	к Приглашаю 
	всех желающих
	 научится про
	ходить АС+1 - 
	испытание Завод
	ного города. Изоляци
	онный Санктуарий. Нужно:
	 12 человек - 2 танка\, 2
	 хилера\, оста
	льные - дд 
	(приорите
	т мана-дд)
	 Предуст
	ановленны
	е аддоны обязатель
	но. Звание от Ветеран Бандит+.
	 Отработанная ротация.
DTSTART:20201005T140000Z
ATTENDEE;CN="Bandit";CUTYPE=INDIVIDUAL;PARTSTAT=ACCEPTED:web
	@bandits-clan.ru
ATTENDEE;CN="AleshaMad";CUTYPE=INDIVIDUAL;PARTSTAT=ACCEPTED:
	web@bandits-clan.ru
ATTENDEE;CN="MrGlaideR";CUTYPE=INDIVIDUAL;PARTSTAT=ACCEPTED:
	web@bandits-clan.ru
ATTENDEE;CN="Lihar";CUTYPE=INDIVIDUAL;PARTSTAT=ACCEPTED:web@
	bandits-clan.ru
ATTENDEE;CN="Artempapa";CUTYPE=INDIVIDUAL;PARTSTAT=ACCEPTED:
	web@bandits-clan.ru
ATTENDEE;CN="Zahaz";CUTYPE=INDIVIDUAL;PARTSTAT=ACCEPTED:web@
	bandits-clan.ru
ATTENDEE;CN="#ifndef";CUTYPE=INDIVIDUAL;PARTSTAT=ACCEPTED:we
	b@bandits-clan.ru
ATTENDEE;CN="Дэйф";CUTYPE=INDIVIDUAL;PARTSTAT=ACCEPTED:w
	eb@bandits-clan.ru
ATTENDEE;CN="Sinbann";CUTYPE=INDIVIDUAL;PARTSTAT=ACCEPTED:we
	b@bandits-clan.ru
ATTENDEE;CN="Agitator";CUTYPE=INDIVIDUAL;PARTSTAT=ACCEPTED:w
	eb@bandits-clan.ru
ATTENDEE;CN="Dgalz";CUTYPE=INDIVIDUAL;PARTSTAT=ACCEPTED:web@
	bandits-clan.ru
ATTENDEE;CN="CHESTER";CUTYPE=INDIVIDUAL;PARTSTAT=ACCEPTED:we
	b@bandits-clan.ru
ATTENDEE;CN="ForestDragonBro";CUTYPE=INDIVIDUAL;PARTSTAT=ACC
	EPTED:web@bandits-clan.ru
ATTENDEE;CN="Demirurg";CUTYPE=INDIVIDUAL;PARTSTAT=ACCEPTED:w
	eb@bandits-clan.ru
ATTENDEE;CN="jawluiz";CUTYPE=INDIVIDUAL;PARTSTAT=ACCEPTED:we
	b@bandits-clan.ru
END:VEVENT
END:VCALENDAR
