BEGIN:VCALENDAR
VERSION:2.0
PRODID:-//InvisionCommunity Events 4.7.14//EN
METHOD:PUBLISH
CALSCALE:GREGORIAN
REFRESH-INTERVAL:PT15M
X-PUBLISHED-TTL:PT15M
X-WR-CALNAME:The Elder Scrolls Online
NAME:The Elder Scrolls Online
BEGIN:VTIMEZONE
TZID:Europe/London
TZURL:http://tzurl.org/zoneinfo/Europe/London
X-LIC-LOCATION:Europe/London
BEGIN:DAYLIGHT
TZOFFSETFROM:+0000
TZOFFSETTO:+0100
TZNAME:BST
DTSTART:20200329T020000Z
RRULE:FREQ=YEARLY;BYMONTH=3;BYDAY=-1SU
END:DAYLIGHT
BEGIN:STANDARD
TZOFFSETFROM:+0100
TZOFFSETTO:+0000
TZNAME:GMT
DTSTART:20201025T020000Z
RRULE:FREQ=YEARLY;BYMONTH=10;BYDAY=-1SU
END:STANDARD
END:VTIMEZONE
BEGIN:VEVENT
SUMMARY:[TESO] Учебное испытание вет Клауд
	рест+1
DTSTAMP:20200919T172929Z
SEQUENCE:2
UID:7942-1-afb15bc42254ad5fb0481ce5e9c8144d@forum.bandits-clan.ru
ORGANIZER;CN="Skybae":web@bandits-clan.ru
DESCRIPTION:В 21.00 по МСК
	 Начинаю с
	ерию обучающе
	го Клаудреста.\n
	Предположительно
	 по Вторникам и Пят
	ницам в 21.30 Данный 
	клауд будет +0 це
	ль серии закрыть
	 +1 и выбить шмо
	т всем кто хо
	дит. Данный 
	триал на ве
	те достато
	чно сложный
	 контент.\nПо
	этому прошу
	 вниматель
	но прочитать
	 требования 
	к составу.\nД
	анное событие 
	предназначено не 
	для новичков. Тан
	ки - необходимо 3 танка
	\nДвое из них - мейн та
	нки максимум 37к хп\
	, на голову ерсгор\, из 
	сетов йолка + (желательн
	о алкош)\nОфф танк - на 
	+0 он не нужен\, из 
	за этого я попро
	шу на эту роль тан
	ка у которого есть дд
	\, требование хотя б 
	30к в скелета Хилы 
	- еще 2 хила\, ко
	торые быстро 
	запоминают и в
	никают в механ
	ики (страта будет
	 чуть странной\, 
	и потребует чут
	ь механик от хил
	ов)\nоба хила налич
	ие спк обязательно ДД -
	 кто нужен из дд - 2 м
	ана некра\n- мана рд
	д от 35к на кукле иск
	лючительно РДД - то 
	есть без мили спам а
	билок.\n- максимум 
	1 стаминщик\, или 
	некр\, при отсу
	тствии второго м
	ана некра или с
	тамплар 40к+ д
	пса Приори
	тет на тех\, кто ре
	гулярно посещает событие. Обязат
	ельные аддоны Code Combat Alert\nRaid Notifier\nBandit U
	ser Interface Решение о со
	ставе группы ос
	тается за рейд ли
	дером. P.S Если в
	ы не проходите по
	 требованиям\, то
	 найдите меня заранее
	 в тсе\, и мы обсудим 
	что можно сделать\,\
	nувы за 5 минут до рейда делать искл
	ючение я не могу.
DTSTART:20201002T180000Z
ATTENDEE;CN="Reyesa";CUTYPE=INDIVIDUAL;PARTSTAT=ACCEPTED:web
	@bandits-clan.ru
ATTENDEE;CN="deathwach";CUTYPE=INDIVIDUAL;PARTSTAT=ACCEPTED:
	web@bandits-clan.ru
ATTENDEE;CN="Artempapa";CUTYPE=INDIVIDUAL;PARTSTAT=ACCEPTED:
	web@bandits-clan.ru
ATTENDEE;CN="MrGlaideR";CUTYPE=INDIVIDUAL;PARTSTAT=ACCEPTED:
	web@bandits-clan.ru
ATTENDEE;CN="Skybae";CUTYPE=INDIVIDUAL;PARTSTAT=ACCEPTED:web
	@bandits-clan.ru
ATTENDEE;CN="Gym4ik";CUTYPE=INDIVIDUAL;PARTSTAT=ACCEPTED:web
	@bandits-clan.ru
ATTENDEE;CN="KateSnow";CUTYPE=INDIVIDUAL;PARTSTAT=ACCEPTED:w
	eb@bandits-clan.ru
ATTENDEE;CN="Geluriel";CUTYPE=INDIVIDUAL;PARTSTAT=ACCEPTED:w
	eb@bandits-clan.ru
ATTENDEE;CN="Risad";CUTYPE=INDIVIDUAL;PARTSTAT=ACCEPTED:web@
	bandits-clan.ru
ATTENDEE;CN="Дэйф";CUTYPE=INDIVIDUAL;PARTSTAT=ACCEPTED:w
	eb@bandits-clan.ru
ATTENDEE;CN="Dgalz";CUTYPE=INDIVIDUAL;PARTSTAT=ACCEPTED:web@
	bandits-clan.ru
ATTENDEE;CN="Lihar";CUTYPE=INDIVIDUAL;PARTSTAT=ACCEPTED:web@
	bandits-clan.ru
ATTENDEE;CN="Porschen";CUTYPE=INDIVIDUAL;PARTSTAT=ACCEPTED:w
	eb@bandits-clan.ru
ATTENDEE;CN="CHESTER";CUTYPE=INDIVIDUAL;PARTSTAT=ACCEPTED:we
	b@bandits-clan.ru
ATTENDEE;CN="Sirazentesis";CUTYPE=INDIVIDUAL;PARTSTAT=ACCEPT
	ED:web@bandits-clan.ru
ATTENDEE;CN="ruGrom";CUTYPE=INDIVIDUAL;PARTSTAT=ACCEPTED:web
	@bandits-clan.ru
ATTENDEE;CN="#ifndef";CUTYPE=INDIVIDUAL;PARTSTAT=ACCEPTED:we
	b@bandits-clan.ru
ATTENDEE;CN="Kaufat";CUTYPE=INDIVIDUAL;PARTSTAT=ACCEPTED:web
	@bandits-clan.ru
END:VEVENT
END:VCALENDAR
