BEGIN:VCALENDAR
VERSION:2.0
PRODID:-//InvisionCommunity Events 4.7.14//EN
METHOD:PUBLISH
CALSCALE:GREGORIAN
REFRESH-INTERVAL:PT15M
X-PUBLISHED-TTL:PT15M
X-WR-CALNAME:The Elder Scrolls Online
NAME:The Elder Scrolls Online
BEGIN:VTIMEZONE
TZID:Europe/London
TZURL:http://tzurl.org/zoneinfo/Europe/London
X-LIC-LOCATION:Europe/London
BEGIN:DAYLIGHT
TZOFFSETFROM:+0000
TZOFFSETTO:+0100
TZNAME:BST
DTSTART:20200329T020000Z
RRULE:FREQ=YEARLY;BYMONTH=3;BYDAY=-1SU
END:DAYLIGHT
BEGIN:STANDARD
TZOFFSETFROM:+0100
TZOFFSETTO:+0000
TZNAME:GMT
DTSTART:20201025T020000Z
RRULE:FREQ=YEARLY;BYMONTH=10;BYDAY=-1SU
END:STANDARD
END:VTIMEZONE
BEGIN:VEVENT
SUMMARY:[TESO] Учебное испытание вет Клауд
	рест
DTSTAMP:20200919T172250Z
SEQUENCE:2
UID:7941-1-afb15bc42254ad5fb0481ce5e9c8144d@forum.bandits-clan.ru
ORGANIZER;CN="Skybae":web@bandits-clan.ru
DESCRIPTION:В 21.30 по МСК
	 Начинаю с
	ерию обучающе
	го Клаудреста.\n
	Предположительно
	 по Вторникам и Пят
	ницам в 21.30 Данный 
	клауд будет +0 це
	ль серии закрыть
	 +1 и выбить шмо
	т всем кто хо
	дит. Данный 
	триал на ве
	те достато
	чно сложный
	 контент.\nПо
	этому прошу
	 вниматель
	но прочитать
	 требования 
	к составу.\nД
	анное событие п
	редназначено не 
	для новичков. Танки 
	- необходимо 3 танка -
	 от бандита\nДвое из н
	их - мейн танки максиму
	м 37к хп\, на голову ер
	сгор\, из сетов йолка + (
	желательно алкош)\nОфф
	 танк - на +0 он не нуж
	ен\, из за этого я
	 попрошу на эту рол
	ь танка у которого 
	есть дд\, требование хо
	тя б 30к в скелета Хил
	ы - от бандита \, ещ
	е 2 хила\, котор
	ые быстро запом
	инают и вникают
	 в механики (ст
	рата будет чуть 
	странной\, и по
	требует чуть ме
	ханик от хилов)\nо
	ба хила наличие спк
	 обязательно ДД - кто н
	ужен из дд - 2 мана нек
	ра\n- мана рдд от 35к
	 на кукле исключител
	ьно РДД - то есть без
	 мили спам абилок.\n
	- максимум 1 стами
	нщик\, или некр\, 
	при отсутствии
	 второго мана не
	кра или стампла
	р 40к+ дпса Пр
	иоритет на тех\
	, кто регулярно посещает со
	бытие. Обязательные аддоны Code Combat Alert\nRai
	d Notifier\nBandit User Interface Решен
	ие о составе груп
	пы остается за рей
	д лидером. P.S Ес
	ли вы не проходите
	 по требованиям\, 
	то найдите меня зара
	нее в тсе\, и мы обсу
	дим что можно сдел
	ать\,\nувы за 5 минут до рейда делать ис
	ключение я не могу.
DTSTART:20200929T183000Z
ATTENDEE;CN="Risad";CUTYPE=INDIVIDUAL;PARTSTAT=ACCEPTED:web@
	bandits-clan.ru
ATTENDEE;CN="deathwach";CUTYPE=INDIVIDUAL;PARTSTAT=ACCEPTED:
	web@bandits-clan.ru
ATTENDEE;CN="Actorion";CUTYPE=INDIVIDUAL;PARTSTAT=ACCEPTED:w
	eb@bandits-clan.ru
ATTENDEE;CN="Reyesa";CUTYPE=INDIVIDUAL;PARTSTAT=ACCEPTED:web
	@bandits-clan.ru
ATTENDEE;CN="MrGlaideR";CUTYPE=INDIVIDUAL;PARTSTAT=ACCEPTED:
	web@bandits-clan.ru
ATTENDEE;CN="Artempapa";CUTYPE=INDIVIDUAL;PARTSTAT=ACCEPTED:
	web@bandits-clan.ru
ATTENDEE;CN="Skybae";CUTYPE=INDIVIDUAL;PARTSTAT=ACCEPTED:web
	@bandits-clan.ru
ATTENDEE;CN="Forxros";CUTYPE=INDIVIDUAL;PARTSTAT=ACCEPTED:we
	b@bandits-clan.ru
ATTENDEE;CN="#ifndef";CUTYPE=INDIVIDUAL;PARTSTAT=ACCEPTED:we
	b@bandits-clan.ru
ATTENDEE;CN="Китана";CUTYPE=INDIVIDUAL;PARTSTAT=ACCEPT
	ED:web@bandits-clan.ru
ATTENDEE;CN="Dgalz";CUTYPE=INDIVIDUAL;PARTSTAT=ACCEPTED:web@
	bandits-clan.ru
ATTENDEE;CN="Lihar";CUTYPE=INDIVIDUAL;PARTSTAT=ACCEPTED:web@
	bandits-clan.ru
ATTENDEE;CN="Gym4ik";CUTYPE=INDIVIDUAL;PARTSTAT=ACCEPTED:web
	@bandits-clan.ru
ATTENDEE;CN="jawluiz";CUTYPE=INDIVIDUAL;PARTSTAT=ACCEPTED:we
	b@bandits-clan.ru
ATTENDEE;CN="ruGrom";CUTYPE=INDIVIDUAL;PARTSTAT=ACCEPTED:web
	@bandits-clan.ru
ATTENDEE;CN="MagicalPenguin";CUTYPE=INDIVIDUAL;PARTSTAT=ACCE
	PTED:web@bandits-clan.ru
ATTENDEE;CN="Гуго Де Рок";CUTYPE=INDIVIDUAL;PARTSTA
	T=ACCEPTED:web@bandits-clan.ru
ATTENDEE;CN="Demirurg";CUTYPE=INDIVIDUAL;PARTSTAT=ACCEPTED:w
	eb@bandits-clan.ru
ATTENDEE;CN="KarlowskY7";CUTYPE=INDIVIDUAL;PARTSTAT=ACCEPTED
	:web@bandits-clan.ru
END:VEVENT
END:VCALENDAR
