BEGIN:VCALENDAR
VERSION:2.0
PRODID:-//InvisionCommunity Events 4.7.14//EN
METHOD:PUBLISH
CALSCALE:GREGORIAN
REFRESH-INTERVAL:PT15M
X-PUBLISHED-TTL:PT15M
X-WR-CALNAME:The Elder Scrolls Online
NAME:The Elder Scrolls Online
BEGIN:VTIMEZONE
TZID:Europe/London
TZURL:http://tzurl.org/zoneinfo/Europe/London
X-LIC-LOCATION:Europe/London
BEGIN:DAYLIGHT
TZOFFSETFROM:+0000
TZOFFSETTO:+0100
TZNAME:BST
DTSTART:20200329T020000Z
RRULE:FREQ=YEARLY;BYMONTH=3;BYDAY=-1SU
END:DAYLIGHT
BEGIN:STANDARD
TZOFFSETFROM:+0100
TZOFFSETTO:+0000
TZNAME:GMT
DTSTART:20201025T020000Z
RRULE:FREQ=YEARLY;BYMONTH=10;BYDAY=-1SU
END:STANDARD
END:VTIMEZONE
BEGIN:VEVENT
SUMMARY:(TESO) Учебное нормал испытание Кл
	аудрест
DTSTAMP:20200915T120327Z
SEQUENCE:0
UID:7931-1-afb15bc42254ad5fb0481ce5e9c8144d@forum.bandits-clan.ru
ORGANIZER;CN="Skybae":web@bandits-clan.ru
DESCRIPTION:16.00 По МСК Приг
	лашаю всех желающих 
	от 160 ОГ пройти исп
	ытание испытание К
	лаудрест (nCR). Осо
	бенно если это
	 ваш первый три
	ал\, записывай
	тесь!  Для п
	охода в данный
	 триал у вас должно
	 быть дополнение Самм
	ерсет Нужно: 12 человек\, 
	1 танк\, 1 хилер\, остальн
	ые - любые дд. \nСбо
	р в ТС\, канал - у
	чебный триал. М
	есто встречи изме
	нить нельзя (гильдхол
	л)\, дресскод - парад
	ный(табарды)\, з
	а 15 минут до на
	чала события. Для
	 участия нажимайт
	е справа на кнопку 
	\"Пойду\"\, а в коммент
	арии внизу пишите 
	свою роль и игровой ID. P.S 
	аддоны которые нужны для триалов: Code Combat
	 Alert\nRaid Notifier\nBandit User Interface\nесли в
	ы не знаете что 
	такое аддоны ил
	и не успели их по
	ставить\, то дл
	я нормал верс
	ии это не крит
	ично\, но об
	язательно 
	поставьте и
	х если собе
	ретесь идт
	и на ветера
	нскую версию 
	триала \nДан
	ное событие в
	ключает обучающий
	 и фармовый рейд.\n
	Длительность событи
	я 2 часа\, 30минут о
	бучающий заход\, 2
	-4 быстрых фармовых
	 заходика. Фармим С
	ирорию (мана дд)\, Олори
	му(хилам)\, Галенве(танкам) и Релеквин(
	стам дд).
DTSTART:20200920T130000Z
ATTENDEE;CN="Hrom";CUTYPE=INDIVIDUAL;PARTSTAT=ACCEPTED:web@b
	andits-clan.ru
ATTENDEE;CN="Skybae";CUTYPE=INDIVIDUAL;PARTSTAT=ACCEPTED:web
	@bandits-clan.ru
ATTENDEE;CN="deathwach";CUTYPE=INDIVIDUAL;PARTSTAT=ACCEPTED:
	web@bandits-clan.ru
ATTENDEE;CN="Китана";CUTYPE=INDIVIDUAL;PARTSTAT=ACCEPT
	ED:web@bandits-clan.ru
ATTENDEE;CN="StillHeart";CUTYPE=INDIVIDUAL;PARTSTAT=ACCEPTED
	:web@bandits-clan.ru
ATTENDEE;CN="xMayoRx";CUTYPE=INDIVIDUAL;PARTSTAT=ACCEPTED:we
	b@bandits-clan.ru
ATTENDEE;CN="Risad";CUTYPE=INDIVIDUAL;PARTSTAT=ACCEPTED:web@
	bandits-clan.ru
ATTENDEE;CN="Shvakh";CUTYPE=INDIVIDUAL;PARTSTAT=ACCEPTED:web
	@bandits-clan.ru
ATTENDEE;CN="NekrosOldSchool";CUTYPE=INDIVIDUAL;PARTSTAT=ACC
	EPTED:web@bandits-clan.ru
ATTENDEE;CN="Ezergil";CUTYPE=INDIVIDUAL;PARTSTAT=ACCEPTED:we
	b@bandits-clan.ru
ATTENDEE;CN="Geluriel";CUTYPE=INDIVIDUAL;PARTSTAT=ACCEPTED:w
	eb@bandits-clan.ru
ATTENDEE;CN="DeGraff";CUTYPE=INDIVIDUAL;PARTSTAT=ACCEPTED:we
	b@bandits-clan.ru
ATTENDEE;CN="StetsHarl";CUTYPE=INDIVIDUAL;PARTSTAT=ACCEPTED:
	web@bandits-clan.ru
ATTENDEE;CN="RevanxDark";CUTYPE=INDIVIDUAL;PARTSTAT=ACCEPTED
	:web@bandits-clan.ru
ATTENDEE;CN="Slgod";CUTYPE=INDIVIDUAL;PARTSTAT=ACCEPTED:web@
	bandits-clan.ru
ATTENDEE;CN="HatMade";CUTYPE=INDIVIDUAL;PARTSTAT=ACCEPTED:we
	b@bandits-clan.ru
ATTENDEE;CN="edwardovich";CUTYPE=INDIVIDUAL;PARTSTAT=ACCEPTE
	D:web@bandits-clan.ru
END:VEVENT
END:VCALENDAR
