BEGIN:VCALENDAR
VERSION:2.0
PRODID:-//InvisionCommunity Events 4.7.14//EN
METHOD:PUBLISH
CALSCALE:GREGORIAN
REFRESH-INTERVAL:PT15M
X-PUBLISHED-TTL:PT15M
X-WR-CALNAME:The Elder Scrolls Online
NAME:The Elder Scrolls Online
BEGIN:VTIMEZONE
TZID:Europe/London
TZURL:http://tzurl.org/zoneinfo/Europe/London
X-LIC-LOCATION:Europe/London
BEGIN:DAYLIGHT
TZOFFSETFROM:+0000
TZOFFSETTO:+0100
TZNAME:BST
DTSTART:20200329T020000Z
RRULE:FREQ=YEARLY;BYMONTH=3;BYDAY=-1SU
END:DAYLIGHT
BEGIN:STANDARD
TZOFFSETFROM:+0100
TZOFFSETTO:+0000
TZNAME:GMT
DTSTART:20201025T020000Z
RRULE:FREQ=YEARLY;BYMONTH=10;BYDAY=-1SU
END:STANDARD
END:VTIMEZONE
BEGIN:VEVENT
SUMMARY:[TESO] Мировые Боссы Греймура (DLC Greym
	oor)
DTSTAMP:20200915T002428Z
SEQUENCE:0
UID:7927-1-afb15bc42254ad5fb0481ce5e9c8144d@forum.bandits-clan.ru
ORGANIZER;CN="Timbra":web@bandits-clan.ru
DESCRIPTION:\n20:00 по Мск Пр
	иглашаю все
	х желающих 0
	+ уровень 
	на увлек
	ательное
	 путешест
	вие по Запа
	дному Скайр
	иму. Програм
	ма события:Еж
	едневные зада
	ния на 6 боссов
	 в Западном 
	Скайриме и Ч
	ерном Предел
	е\nЗакроем в
	се Бури Запа
	дного Скайрим
	а и Черного Пр
	едела\nПофарми
	м дорогие рецепты и 
	мотифы (есть большой шан
	с найти вещи от 10к до 
	300к зол. за один вечер)\n\n
	Требования:Купленная глава Грейму
	р (DLC Greymoor)\nTeamSpeak.\nТабард
	 гильдии бандитов (м
	ожно купить в магази
	не гильдии за 2000 зол.)\nЛюбой уровень\, л
	юбая экипировка\n
DTSTART:20200919T170000Z
ATTENDEE;CN="Derrik";CUTYPE=INDIVIDUAL;PARTSTAT=ACCEPTED:web
	@bandits-clan.ru
ATTENDEE;CN="Arail";CUTYPE=INDIVIDUAL;PARTSTAT=ACCEPTED:web@
	bandits-clan.ru
ATTENDEE;CN="Марк Разумовский";CUTYPE=INDIVID
	UAL;PARTSTAT=ACCEPTED:web@bandits-clan.ru
ATTENDEE;CN="Бурый95";CUTYPE=INDIVIDUAL;PARTSTAT=ACCEPT
	ED:web@bandits-clan.ru
END:VEVENT
END:VCALENDAR
