BEGIN:VCALENDAR
VERSION:2.0
PRODID:-//InvisionCommunity Events 4.7.14//EN
METHOD:PUBLISH
CALSCALE:GREGORIAN
REFRESH-INTERVAL:PT15M
X-PUBLISHED-TTL:PT15M
X-WR-CALNAME:The Elder Scrolls Online
NAME:The Elder Scrolls Online
BEGIN:VTIMEZONE
TZID:Europe/London
TZURL:http://tzurl.org/zoneinfo/Europe/London
X-LIC-LOCATION:Europe/London
BEGIN:DAYLIGHT
TZOFFSETFROM:+0000
TZOFFSETTO:+0100
TZNAME:BST
DTSTART:20200329T020000Z
RRULE:FREQ=YEARLY;BYMONTH=3;BYDAY=-1SU
END:DAYLIGHT
BEGIN:STANDARD
TZOFFSETFROM:+0100
TZOFFSETTO:+0000
TZNAME:GMT
DTSTART:20201025T020000Z
RRULE:FREQ=YEARLY;BYMONTH=10;BYDAY=-1SU
END:STANDARD
END:VTIMEZONE
BEGIN:VEVENT
SUMMARY:[TESO] Фармовый испытание Залы Фаб
	рикации
DTSTAMP:20200910T090245Z
SEQUENCE:2
UID:7902-1-afb15bc42254ad5fb0481ce5e9c8144d@forum.bandits-clan.ru
ORGANIZER;CN="Skybae":web@bandits-clan.ru
DESCRIPTION:В 20.00 по МСК Приглаша
	ю всех желающих от 300 ОГ\, о
	т 20к дпс\, 18к хп\, пройти и
	спытание \"Залы Фабри
	кации\" (nHof). Для 
	похода в данны
	й триал у вас долж
	но быть дополнение Мо
	рровинд Нужно: 12 челове
	к\, 1 танк\, 0 хилов\, оста
	льные - любые дд. 
	Сбор в ТС\, кана
	л - фармовый триа
	л. Место встреч
	и изменить нельзя (г
	ильдхолл)\, дресскод
	 - парадный(табард
	ы)\, за 15 минут 
	до начала события.
	 Для участия нажи
	майте справа на кн
	опку \"Пойду\"\, а в 
	комментарии вни
	зу пишите свою р
	оль и игровой 
	ID. Это фармов
	ый триал\, 
	будут огов
	оренны тол
	ько минима
	льные тактики
	 для быстрого 
	прохождения.
	\nДлительность 
	события до 2х часов
	\, ориентировочное
	 количество заходов 3-4  P.
	S аддоны которые нужны для триалов: Code Comb
	at Alert\nRaid Notifier\nBandit User Interface
DTSTART:20200917T170000Z
ATTENDEE;CN="Skybae";CUTYPE=INDIVIDUAL;PARTSTAT=ACCEPTED:web
	@bandits-clan.ru
ATTENDEE;CN="Seirum";CUTYPE=INDIVIDUAL;PARTSTAT=ACCEPTED:web
	@bandits-clan.ru
ATTENDEE;CN="deathwach";CUTYPE=INDIVIDUAL;PARTSTAT=ACCEPTED:
	web@bandits-clan.ru
ATTENDEE;CN="Risad";CUTYPE=INDIVIDUAL;PARTSTAT=ACCEPTED:web@
	bandits-clan.ru
ATTENDEE;CN="Jekson_GWTB";CUTYPE=INDIVIDUAL;PARTSTAT=ACCEPTE
	D:web@bandits-clan.ru
ATTENDEE;CN="StillHeart";CUTYPE=INDIVIDUAL;PARTSTAT=ACCEPTED
	:web@bandits-clan.ru
ATTENDEE;CN="xMayoRx";CUTYPE=INDIVIDUAL;PARTSTAT=ACCEPTED:we
	b@bandits-clan.ru
END:VEVENT
END:VCALENDAR
