BEGIN:VCALENDAR
VERSION:2.0
PRODID:-//InvisionCommunity Events 4.7.14//EN
METHOD:PUBLISH
CALSCALE:GREGORIAN
REFRESH-INTERVAL:PT15M
X-PUBLISHED-TTL:PT15M
X-WR-CALNAME:The Elder Scrolls Online
NAME:The Elder Scrolls Online
BEGIN:VTIMEZONE
TZID:Europe/London
TZURL:http://tzurl.org/zoneinfo/Europe/London
X-LIC-LOCATION:Europe/London
BEGIN:DAYLIGHT
TZOFFSETFROM:+0000
TZOFFSETTO:+0100
TZNAME:BST
DTSTART:20200329T020000Z
RRULE:FREQ=YEARLY;BYMONTH=3;BYDAY=-1SU
END:DAYLIGHT
BEGIN:STANDARD
TZOFFSETFROM:+0100
TZOFFSETTO:+0000
TZNAME:GMT
DTSTART:20201025T020000Z
RRULE:FREQ=YEARLY;BYMONTH=10;BYDAY=-1SU
END:STANDARD
END:VTIMEZONE
BEGIN:VEVENT
SUMMARY:[TESO] Фармовое нормал испытание Со
	лнечный шпиль
DTSTAMP:20200908T094743Z
SEQUENCE:2
UID:7895-1-afb15bc42254ad5fb0481ce5e9c8144d@forum.bandits-clan.ru
ORGANIZER;CN="Sinbann":web@bandits-clan.ru
DESCRIPTION: В 19:00 по МСК при
	глашаю всех жела
	ющих от 160 ОГ про
	йти нормал верс
	ию испытания \"Солне
	чный шпиль\" для сбора 
	сетов: - Йолнакрин\
	;\n- Ложный бог\;\
	n- Локкестиз. Для у
	спешного прохождения нам
	 потребуются: 1-2 танка\,
	 2 хила\, 7-8 ДД. Для у
	частия необходи
	мо нажать кнопку \"
	Пойду\" справа по к
	урсу и написать 
	свой игровой ID и
	 роль ниже.\nНови
	чкам в покорен
	ии триалов тоже
	 буду рада\, вс
	ё расскажу 
	и покажу. Вни
	мание\, требу
	ется глава Э
	льсвейр. Дрес
	скод парадный (
	табард) со вс
	ем необходимым (р
	емкомплекты\, камни 
	душ). Обязательно при
	сутствие в Teamspeak 
	канал Фармово
	е испытание.\nСбор в 
	гильдхолле (Большо
	е топальское убежище\, тп н
	а @Kibert) Желательно наличие аддонов:\nCode Com
	bat Alert\nRaid Notifier\nBandit User Interface Не у
	чебное испыт
	ание\, отмет
	ки ставить
	ся не будут\n
	Окончательное решение по формирован
	ию рейда остается за РЛом
DTSTART:20200913T160000Z
ATTENDEE;CN="Sinbann";CUTYPE=INDIVIDUAL;PARTSTAT=ACCEPTED:we
	b@bandits-clan.ru
ATTENDEE;CN="Serious_Cat";CUTYPE=INDIVIDUAL;PARTSTAT=ACCEPTE
	D:web@bandits-clan.ru
ATTENDEE;CN="TirNoFear";CUTYPE=INDIVIDUAL;PARTSTAT=ACCEPTED:
	web@bandits-clan.ru
ATTENDEE;CN="Китана";CUTYPE=INDIVIDUAL;PARTSTAT=ACCEPT
	ED:web@bandits-clan.ru
ATTENDEE;CN="IMPERATOR";CUTYPE=INDIVIDUAL;PARTSTAT=ACCEPTED:
	web@bandits-clan.ru
ATTENDEE;CN="Karasinka";CUTYPE=INDIVIDUAL;PARTSTAT=ACCEPTED:
	web@bandits-clan.ru
ATTENDEE;CN="Ahayrii";CUTYPE=INDIVIDUAL;PARTSTAT=ACCEPTED:we
	b@bandits-clan.ru
ATTENDEE;CN="MrMinys";CUTYPE=INDIVIDUAL;PARTSTAT=ACCEPTED:we
	b@bandits-clan.ru
ATTENDEE;CN="Hordent";CUTYPE=INDIVIDUAL;PARTSTAT=ACCEPTED:we
	b@bandits-clan.ru
ATTENDEE;CN="MrGlaideR";CUTYPE=INDIVIDUAL;PARTSTAT=ACCEPTED:
	web@bandits-clan.ru
ATTENDEE;CN="doomkiller87";CUTYPE=INDIVIDUAL;PARTSTAT=ACCEPT
	ED:web@bandits-clan.ru
ATTENDEE;CN="CHESTER";CUTYPE=INDIVIDUAL;PARTSTAT=ACCEPTED:we
	b@bandits-clan.ru
ATTENDEE;CN="Tenerife";CUTYPE=INDIVIDUAL;PARTSTAT=ACCEPTED:w
	eb@bandits-clan.ru
ATTENDEE;CN="DeGraff";CUTYPE=INDIVIDUAL;PARTSTAT=ACCEPTED:we
	b@bandits-clan.ru
ATTENDEE;CN="Moxnatochka";CUTYPE=INDIVIDUAL;PARTSTAT=ACCEPTE
	D:web@bandits-clan.ru
ATTENDEE;CN="xMayoRx";CUTYPE=INDIVIDUAL;PARTSTAT=ACCEPTED:we
	b@bandits-clan.ru
ATTENDEE;CN="lllaxtep";CUTYPE=INDIVIDUAL;PARTSTAT=ACCEPTED:w
	eb@bandits-clan.ru
END:VEVENT
END:VCALENDAR
