BEGIN:VCALENDAR
VERSION:2.0
PRODID:-//InvisionCommunity Events 4.7.14//EN
METHOD:PUBLISH
CALSCALE:GREGORIAN
REFRESH-INTERVAL:PT15M
X-PUBLISHED-TTL:PT15M
X-WR-CALNAME:The Elder Scrolls Online
NAME:The Elder Scrolls Online
BEGIN:VTIMEZONE
TZID:Europe/London
TZURL:http://tzurl.org/zoneinfo/Europe/London
X-LIC-LOCATION:Europe/London
BEGIN:DAYLIGHT
TZOFFSETFROM:+0000
TZOFFSETTO:+0100
TZNAME:BST
DTSTART:20200329T020000Z
RRULE:FREQ=YEARLY;BYMONTH=3;BYDAY=-1SU
END:DAYLIGHT
BEGIN:STANDARD
TZOFFSETFROM:+0100
TZOFFSETTO:+0000
TZNAME:GMT
DTSTART:20201025T020000Z
RRULE:FREQ=YEARLY;BYMONTH=10;BYDAY=-1SU
END:STANDARD
END:VTIMEZONE
BEGIN:VEVENT
SUMMARY:[TESO] vDSA - Арена Драгонстара
DTSTAMP:20200906T171855Z
SEQUENCE:2
UID:7857-1-afb15bc42254ad5fb0481ce5e9c8144d@forum.bandits-clan.ru
ORGANIZER;CN="Timbra":web@bandits-clan.ru
DESCRIPTION:С 18:00 по МС
	К Приглаш
	аю всех желающих 
	пройти ветеранское испы
	тание Арена Драгонстара (v
	DSA).\nот 350 ЧП (если у
	 вас есть аттестаци
	я\, можно сделать исключение) Ну
	жно:\n1 Танк (Нормал+)\,\n1 Хил\n2
	 DD (dps 30k+) Арена Драго
	нстара разбита на 10 э
	тапов\,\nДлительность
	 прохождения: 1.5 час
	а - 4 часа (во мно
	гом зависит о
	т опытности 
	команды и в 
	большей части от
	 танка) Для участ
	ия нажимайте спра
	ва на кнопку \"Пой
	ду\"\, а в коммент
	ариях внизу 
	пишите свою рол
	ь и игровой ID. Обязательно 
	наличие гильдейской накидки Daggerfall/
	Vanguard/Rising Bandits Сбор в Тимсп
	ике (канал Подземелья и Арена) за 10 мину
	т до начала события.
DTSTART:20200909T150000Z
ATTENDEE;CN="Timbra";CUTYPE=INDIVIDUAL;PARTSTAT=ACCEPTED:web
	@bandits-clan.ru
ATTENDEE;CN="Morb1dAngel";CUTYPE=INDIVIDUAL;PARTSTAT=ACCEPTE
	D:web@bandits-clan.ru
ATTENDEE;CN="Дэйф";CUTYPE=INDIVIDUAL;PARTSTAT=ACCEPTED:w
	eb@bandits-clan.ru
ATTENDEE;CN="Dgalz";CUTYPE=INDIVIDUAL;PARTSTAT=ACCEPTED:web@
	bandits-clan.ru
END:VEVENT
END:VCALENDAR
