BEGIN:VCALENDAR
VERSION:2.0
PRODID:-//InvisionCommunity Events 4.7.14//EN
METHOD:PUBLISH
CALSCALE:GREGORIAN
REFRESH-INTERVAL:PT15M
X-PUBLISHED-TTL:PT15M
X-WR-CALNAME:The Elder Scrolls Online
NAME:The Elder Scrolls Online
BEGIN:VTIMEZONE
TZID:Europe/London
TZURL:http://tzurl.org/zoneinfo/Europe/London
X-LIC-LOCATION:Europe/London
BEGIN:DAYLIGHT
TZOFFSETFROM:+0000
TZOFFSETTO:+0100
TZNAME:BST
DTSTART:20200329T020000Z
RRULE:FREQ=YEARLY;BYMONTH=3;BYDAY=-1SU
END:DAYLIGHT
BEGIN:STANDARD
TZOFFSETFROM:+0100
TZOFFSETTO:+0000
TZNAME:GMT
DTSTART:20201025T020000Z
RRULE:FREQ=YEARLY;BYMONTH=10;BYDAY=-1SU
END:STANDARD
END:VTIMEZONE
BEGIN:VEVENT
SUMMARY:[TESO] Фармовое нормал испыт
	ание Клаудрест+3
DTSTAMP:20200901T203358Z
SEQUENCE:2
UID:7830-1-afb15bc42254ad5fb0481ce5e9c8144d@forum.bandits-clan.ru
ORGANIZER;CN="MrGlaideR":web@bandits-clan.ru
DESCRIPTION:   \nВ 18:00 по МСК\n
	Приглашаю всех
	 желающих от 160 О
	Г пройти фармовую но
	рмал версию испыта
	ния Клаудрест +3 (nCR+3
	) (требуется до
	полнение Саммер
	сет)\, если у вас
	 нет опыта прох
	ождения данног
	о триала - всё 
	расскажу и по
	кажу\, но пр
	иоритет всту
	пления будет
	 у обладателей 
	отметки. Испытание 
	фармовое\, но сего
	дня планируем на 1 за
	ход (1 час) из-за следующего
	 триала. Нужно: 2 Танка\
	, 2 Хила\, 8 DD. Для участи
	я нажимайте справ
	а на кнопку \"Пойду\
	"\, а в комментар
	ии внизу пиши
	те свою роль и игро
	вой ID. Обязательно наличие гильде
	йской накидки Daggerfall/Vanguard/Rising B
	andits. Сбор в Тимс
	пике (канал Испыт
	ания - Фармовое испытани
	е) и гильдхолле за 10 минут до начала соб
	ытия.
DTSTART:20200905T150000Z
ATTENDEE;CN="MrGlaideR";CUTYPE=INDIVIDUAL;PARTSTAT=ACCEPTED:
	web@bandits-clan.ru
ATTENDEE;CN="Shvakh";CUTYPE=INDIVIDUAL;PARTSTAT=ACCEPTED:web
	@bandits-clan.ru
ATTENDEE;CN="Lihar";CUTYPE=INDIVIDUAL;PARTSTAT=ACCEPTED:web@
	bandits-clan.ru
ATTENDEE;CN="NataliCerber";CUTYPE=INDIVIDUAL;PARTSTAT=ACCEPT
	ED:web@bandits-clan.ru
ATTENDEE;CN="MasterMasa";CUTYPE=INDIVIDUAL;PARTSTAT=ACCEPTED
	:web@bandits-clan.ru
ATTENDEE;CN="Ahayrii";CUTYPE=INDIVIDUAL;PARTSTAT=ACCEPTED:we
	b@bandits-clan.ru
ATTENDEE;CN="Hordent";CUTYPE=INDIVIDUAL;PARTSTAT=ACCEPTED:we
	b@bandits-clan.ru
ATTENDEE;CN="StetsHarl";CUTYPE=INDIVIDUAL;PARTSTAT=ACCEPTED:
	web@bandits-clan.ru
ATTENDEE;CN="IDARKCATI";CUTYPE=INDIVIDUAL;PARTSTAT=ACCEPTED:
	web@bandits-clan.ru
ATTENDEE;CN="Бурый95";CUTYPE=INDIVIDUAL;PARTSTAT=ACCEPT
	ED:web@bandits-clan.ru
ATTENDEE;CN="Alex_Zi";CUTYPE=INDIVIDUAL;PARTSTAT=ACCEPTED:we
	b@bandits-clan.ru
ATTENDEE;CN="Porschen";CUTYPE=INDIVIDUAL;PARTSTAT=ACCEPTED:w
	eb@bandits-clan.ru
ATTENDEE;CN="LordMamon";CUTYPE=INDIVIDUAL;PARTSTAT=ACCEPTED:
	web@bandits-clan.ru
ATTENDEE;CN="StillHeart";CUTYPE=INDIVIDUAL;PARTSTAT=ACCEPTED
	:web@bandits-clan.ru
ATTENDEE;CN="Марк Разумовский";CUTYPE=INDIVID
	UAL;PARTSTAT=ACCEPTED:web@bandits-clan.ru
ATTENDEE;CN="doomkiller87";CUTYPE=INDIVIDUAL;PARTSTAT=ACCEPT
	ED:web@bandits-clan.ru
END:VEVENT
END:VCALENDAR
