BEGIN:VCALENDAR
VERSION:2.0
PRODID:-//InvisionCommunity Events 4.7.14//EN
METHOD:PUBLISH
CALSCALE:GREGORIAN
REFRESH-INTERVAL:PT15M
X-PUBLISHED-TTL:PT15M
X-WR-CALNAME:The Elder Scrolls Online
NAME:The Elder Scrolls Online
BEGIN:VTIMEZONE
TZID:Europe/London
TZURL:http://tzurl.org/zoneinfo/Europe/London
X-LIC-LOCATION:Europe/London
BEGIN:DAYLIGHT
TZOFFSETFROM:+0000
TZOFFSETTO:+0100
TZNAME:BST
DTSTART:20200329T020000Z
RRULE:FREQ=YEARLY;BYMONTH=3;BYDAY=-1SU
END:DAYLIGHT
BEGIN:STANDARD
TZOFFSETFROM:+0100
TZOFFSETTO:+0000
TZNAME:GMT
DTSTART:20201025T020000Z
RRULE:FREQ=YEARLY;BYMONTH=10;BYDAY=-1SU
END:STANDARD
END:VTIMEZONE
BEGIN:VEVENT
SUMMARY:[TESO] Мировые Боссы Греймура (DLC Greym
	oor)
DTSTAMP:20200901T095725Z
SEQUENCE:0
UID:7827-1-afb15bc42254ad5fb0481ce5e9c8144d@forum.bandits-clan.ru
ORGANIZER;CN="Timbra":web@bandits-clan.ru
DESCRIPTION:20:00 по Мск Пр
	иглашаю всех
	 желающих 0+
	 уровень 
	на увлек
	ательную
	 экскурсию
	 по Западно
	му Скайриму
	. Программа
	 события:Еж
	едневные зад
	ания на боссо
	в\nЗакроем в
	се Бури Запа
	дного Скайрим
	а и Черного Пр
	едела\nПофарми
	м дорогие рецепты и 
	мотифы (есть большой шан
	с найти вещи от 10к до 
	300к зол. за один вечер)\n\n
	Требования:Купленная 
	глава Греймур\nTeamSpe
	ak.\nТабард гильдии б
	андитов (можно купить
	 в магазине гильдии за 
	2000 зол.)\nЛюбой уровень\, люб
	ая экипировка\n\nНовички в приоритете.
DTSTART:20200905T170000Z
ATTENDEE;CN="Кира";CUTYPE=INDIVIDUAL;PARTSTAT=ACCEPTED:w
	eb@bandits-clan.ru
ATTENDEE;CN="StillHeart";CUTYPE=INDIVIDUAL;PARTSTAT=ACCEPTED
	:web@bandits-clan.ru
ATTENDEE;CN="Deren";CUTYPE=INDIVIDUAL;PARTSTAT=ACCEPTED:web@
	bandits-clan.ru
ATTENDEE;CN="Apxa3apD";CUTYPE=INDIVIDUAL;PARTSTAT=ACCEPTED:w
	eb@bandits-clan.ru
ATTENDEE;CN="NavaraBMA";CUTYPE=INDIVIDUAL;PARTSTAT=ACCEPTED:
	web@bandits-clan.ru
ATTENDEE;CN="Timbra";CUTYPE=INDIVIDUAL;PARTSTAT=ACCEPTED:web
	@bandits-clan.ru
END:VEVENT
END:VCALENDAR
