BEGIN:VCALENDAR
VERSION:2.0
PRODID:-//InvisionCommunity Events 4.7.14//EN
METHOD:PUBLISH
CALSCALE:GREGORIAN
REFRESH-INTERVAL:PT15M
X-PUBLISHED-TTL:PT15M
X-WR-CALNAME:The Elder Scrolls Online
NAME:The Elder Scrolls Online
BEGIN:VTIMEZONE
TZID:Europe/London
TZURL:http://tzurl.org/zoneinfo/Europe/London
X-LIC-LOCATION:Europe/London
BEGIN:DAYLIGHT
TZOFFSETFROM:+0000
TZOFFSETTO:+0100
TZNAME:BST
DTSTART:20200329T020000Z
RRULE:FREQ=YEARLY;BYMONTH=3;BYDAY=-1SU
END:DAYLIGHT
BEGIN:STANDARD
TZOFFSETFROM:+0100
TZOFFSETTO:+0000
TZNAME:GMT
DTSTART:20201025T020000Z
RRULE:FREQ=YEARLY;BYMONTH=10;BYDAY=-1SU
END:STANDARD
END:VTIMEZONE
BEGIN:VEVENT
SUMMARY:[TESO] Семинар по Танкам (ДК)
DTSTAMP:20200830T133816Z
SEQUENCE:0
UID:7797-1-afb15bc42254ad5fb0481ce5e9c8144d@forum.bandits-clan.ru
ORGANIZER;CN="dreemspot":web@bandits-clan.ru
DESCRIPTION:\nНе пропустите!\n\nВ 
	14.00 по Московскому
	 времени!\n\nПродолжа
	ем наш ежегодный се
	риал \"Лучшие из луч
	ших\".\n\nПриглашаю всех 
	желающих\, на семин
	ар по Танкам (ДК)
	 в ПвЕ!\n\nОбязател
	ьно! Подготовьте интересующие вас вопр
	осы!\n\nВедущие: Kibert.
DTSTART:20200905T110000Z
END:VEVENT
END:VCALENDAR
