BEGIN:VCALENDAR
VERSION:2.0
PRODID:-//InvisionCommunity Events 4.7.14//EN
METHOD:PUBLISH
CALSCALE:GREGORIAN
REFRESH-INTERVAL:PT15M
X-PUBLISHED-TTL:PT15M
X-WR-CALNAME:The Elder Scrolls Online
NAME:The Elder Scrolls Online
BEGIN:VTIMEZONE
TZID:Europe/London
TZURL:http://tzurl.org/zoneinfo/Europe/London
X-LIC-LOCATION:Europe/London
BEGIN:DAYLIGHT
TZOFFSETFROM:+0000
TZOFFSETTO:+0100
TZNAME:BST
DTSTART:20200329T020000Z
RRULE:FREQ=YEARLY;BYMONTH=3;BYDAY=-1SU
END:DAYLIGHT
BEGIN:STANDARD
TZOFFSETFROM:+0100
TZOFFSETTO:+0000
TZNAME:GMT
DTSTART:20201025T020000Z
RRULE:FREQ=YEARLY;BYMONTH=10;BYDAY=-1SU
END:STANDARD
END:VTIMEZONE
BEGIN:VEVENT
SUMMARY:[TESO] vSO Спидран рейд
DTSTAMP:20200829T153856Z
SEQUENCE:1
UID:7792-1-afb15bc42254ad5fb0481ce5e9c8144d@forum.bandits-clan.ru
ORGANIZER;CN="Skybae":web@bandits-clan.ru
DESCRIPTION:начало 21.30 по мск.\nсб
	ор в 21.15 vSO Спидран состав и описание: http
	://forum.bandits-clan.ru/index.php?showtopic=73030&amp\;do=findComment&amp
	\;comment=1187433 Нам все ещё ну
	жен:\n1 Танк\n1-
	2дд на по
	дстраховку
	 ВНИМАНИЕ ИЗ ЗА МНОГ
	ОЧИСЛЕННЫХ ОТПУСКОВ СО
	БЫТИЕ ПЕРЕНЕСЕНО НА 18
	.09.2020\nЕСЛИ ДЛЯ К
	ОГО ТО ИЗ ЗАПИСАВШ
	ИХСЯ НЕ ПОДХОДИТ ДАННАЯ ДАТА ПРОС
	ЬБА СООБЩИТЬ ДО 5.09.2020
DTSTART:20200918T183000Z
END:VEVENT
END:VCALENDAR
