BEGIN:VCALENDAR
VERSION:2.0
PRODID:-//InvisionCommunity Events 4.7.14//EN
METHOD:PUBLISH
CALSCALE:GREGORIAN
REFRESH-INTERVAL:PT15M
X-PUBLISHED-TTL:PT15M
X-WR-CALNAME:The Elder Scrolls Online
NAME:The Elder Scrolls Online
BEGIN:VTIMEZONE
TZID:Europe/London
TZURL:http://tzurl.org/zoneinfo/Europe/London
X-LIC-LOCATION:Europe/London
BEGIN:DAYLIGHT
TZOFFSETFROM:+0000
TZOFFSETTO:+0100
TZNAME:BST
DTSTART:20200329T020000Z
RRULE:FREQ=YEARLY;BYMONTH=3;BYDAY=-1SU
END:DAYLIGHT
BEGIN:STANDARD
TZOFFSETFROM:+0100
TZOFFSETTO:+0000
TZNAME:GMT
DTSTART:20201025T020000Z
RRULE:FREQ=YEARLY;BYMONTH=10;BYDAY=-1SU
END:STANDARD
END:VTIMEZONE
BEGIN:VEVENT
SUMMARY:[TESO] vDSA - Арена Драгонстара
DTSTAMP:20200823T193752Z
SEQUENCE:0
UID:7756-1-afb15bc42254ad5fb0481ce5e9c8144d@forum.bandits-clan.ru
ORGANIZER;CN="Timbra":web@bandits-clan.ru
DESCRIPTION:С 19:00 по МС
	К Приглаш
	аю всех желающих 
	пройти ветеранское испы
	тание Арена Драгонстара (v
	DSA).\nот 350 ЧП (если у
	 вас есть аттест
	ация\, можно сделать
	 исключение) Нужно:\n1 Тан
	к (Аттестация от Нормал)\,\n1 Хил
	\n2 DD (Аттестация по dps 30.0
	00) Арене Драгонста
	ра разбита на 10 этапов\
	,\nДлительность прохо
	ждения: 1.5 часа - 4 
	часа (во много
	м зависит от 
	опытности к
	оманды и в бо
	льшей части от та
	нка) Для участия 
	нажимайте справа 
	на кнопку \"Пойду\"\,
	 а в комментари
	и внизу пишит
	е свою роль и игрово
	й ID. Обязательно наличие гильдейско
	й накидки Daggerfall/Vanguard/Rising Band
	its Сбор в Тимспике
	 (канал Подземелья и Арена) за 10 минут 
	до начала события.
DTSTART:20200826T160000Z
ATTENDEE;CN="Timbra";CUTYPE=INDIVIDUAL;PARTSTAT=ACCEPTED:web
	@bandits-clan.ru
ATTENDEE;CN="Viardon";CUTYPE=INDIVIDUAL;PARTSTAT=ACCEPTED:we
	b@bandits-clan.ru
ATTENDEE;CN="Lihar";CUTYPE=INDIVIDUAL;PARTSTAT=ACCEPTED:web@
	bandits-clan.ru
ATTENDEE;CN="Zlobota";CUTYPE=INDIVIDUAL;PARTSTAT=ACCEPTED:we
	b@bandits-clan.ru
ATTENDEE;CN="Dgalz";CUTYPE=INDIVIDUAL;PARTSTAT=ACCEPTED:web@
	bandits-clan.ru
ATTENDEE;CN="Sinbann";CUTYPE=INDIVIDUAL;PARTSTAT=ACCEPTED:we
	b@bandits-clan.ru
END:VEVENT
END:VCALENDAR
