BEGIN:VCALENDAR
VERSION:2.0
PRODID:-//InvisionCommunity Events 4.7.14//EN
METHOD:PUBLISH
CALSCALE:GREGORIAN
REFRESH-INTERVAL:PT15M
X-PUBLISHED-TTL:PT15M
X-WR-CALNAME:The Elder Scrolls Online
NAME:The Elder Scrolls Online
BEGIN:VTIMEZONE
TZID:Europe/London
TZURL:http://tzurl.org/zoneinfo/Europe/London
X-LIC-LOCATION:Europe/London
BEGIN:DAYLIGHT
TZOFFSETFROM:+0000
TZOFFSETTO:+0100
TZNAME:BST
DTSTART:20200329T020000Z
RRULE:FREQ=YEARLY;BYMONTH=3;BYDAY=-1SU
END:DAYLIGHT
BEGIN:STANDARD
TZOFFSETFROM:+0100
TZOFFSETTO:+0000
TZNAME:GMT
DTSTART:20201025T020000Z
RRULE:FREQ=YEARLY;BYMONTH=10;BYDAY=-1SU
END:STANDARD
END:VTIMEZONE
BEGIN:VEVENT
SUMMARY:[TESO] Открытый рейд ветеранский Со
	лнечный Шпиль
DTSTAMP:20200818T192329Z
SEQUENCE:2
UID:7736-1-afb15bc42254ad5fb0481ce5e9c8144d@forum.bandits-clan.ru
ORGANIZER;CN="MrGlaideR":web@bandits-clan.ru
DESCRIPTION: \nВ 19:00 по м
	осковскому врем
	ени Приглашаю вс
	ех желающих в зван
	ии Bandit+ пройти ветеранс
	кую версию испытан
	ия \"Солнечный Шпиль
	\" (vSS) (требуется дополне
	ние Эльсвейр) Состав:2 танк
	а\n2 хилера\n8 ДД\n\nТребо
	вания:Звание Bandit+\nНалич
	ие отметки об аттестац
	ии (для ДД 35.000 и выше\, для
	 танков и хилов атте
	стация ранга normal\, 
	приоритет танк
	ов и хилов буде
	т по аттестации)\
	;\nНаличие отметк
	и о прохождении нормал верси
	и триала\;\nНаличие аддона 
	HowToSunspire\;\nРаспредел
	ение ЧП согласно гайду\;\nНал
	ичие гильдейского табарда Daggerfall/Vangu
	ard/Rising Bandits\;\nНаличие мик
	рофона\;\n\nДля участ
	ия нажимайте спра
	ва на кнопку \"Пойд
	у\"\, а в комментарии
	 внизу пишите свою р
	оль и игровой ID.\nС
	бор в Тимспике (ка
	нал Триалы - Фармо
	вый триал) и гиль
	дхолле за 10 мин
	ут до начала с
	обытия. \nРешение о составе группы оста
	ется за рейд лидером.
DTSTART:20200825T160000Z
ATTENDEE;CN="MrGlaideR";CUTYPE=INDIVIDUAL;PARTSTAT=ACCEPTED:
	web@bandits-clan.ru
ATTENDEE;CN="phdooch";CUTYPE=INDIVIDUAL;PARTSTAT=ACCEPTED:we
	b@bandits-clan.ru
ATTENDEE;CN="Lihar";CUTYPE=INDIVIDUAL;PARTSTAT=ACCEPTED:web@
	bandits-clan.ru
ATTENDEE;CN="Viardon";CUTYPE=INDIVIDUAL;PARTSTAT=ACCEPTED:we
	b@bandits-clan.ru
ATTENDEE;CN="strikegj";CUTYPE=INDIVIDUAL;PARTSTAT=ACCEPTED:w
	eb@bandits-clan.ru
ATTENDEE;CN="Dgalz";CUTYPE=INDIVIDUAL;PARTSTAT=ACCEPTED:web@
	bandits-clan.ru
ATTENDEE;CN="Zlobota";CUTYPE=INDIVIDUAL;PARTSTAT=ACCEPTED:we
	b@bandits-clan.ru
END:VEVENT
END:VCALENDAR
