BEGIN:VCALENDAR
VERSION:2.0
PRODID:-//InvisionCommunity Events 4.7.14//EN
METHOD:PUBLISH
CALSCALE:GREGORIAN
REFRESH-INTERVAL:PT15M
X-PUBLISHED-TTL:PT15M
X-WR-CALNAME:The Elder Scrolls Online
NAME:The Elder Scrolls Online
BEGIN:VTIMEZONE
TZID:Europe/London
TZURL:http://tzurl.org/zoneinfo/Europe/London
X-LIC-LOCATION:Europe/London
BEGIN:DAYLIGHT
TZOFFSETFROM:+0000
TZOFFSETTO:+0100
TZNAME:BST
DTSTART:20200329T020000Z
RRULE:FREQ=YEARLY;BYMONTH=3;BYDAY=-1SU
END:DAYLIGHT
BEGIN:STANDARD
TZOFFSETFROM:+0100
TZOFFSETTO:+0000
TZNAME:GMT
DTSTART:20201025T020000Z
RRULE:FREQ=YEARLY;BYMONTH=10;BYDAY=-1SU
END:STANDARD
END:VTIMEZONE
BEGIN:VEVENT
SUMMARY:(TESO) Мировые Боссы Греймура (Greymoor)
DTSTAMP:20200816T180348Z
SEQUENCE:2
UID:7724-1-afb15bc42254ad5fb0481ce5e9c8144d@forum.bandits-clan.ru
ORGANIZER;CN="Timbra":web@bandits-clan.ru
DESCRIPTION:22:00 по Мск Пр
	иглашаю всех
	 желающих 0+
	 уровень 
	на увлекат
	ельную экс
	курсию по З
	ападному Ск
	айриму. Прог
	рамма событи
	я:\nЕжедневны
	е задания на б
	оссов\nЗакры
	ваем Бури Зап
	адного Скайри
	ма\nЗаглянем 
	в 2 Публичных
	 подземелья\,
	 пофармим ф
	рагменты ко
	стюма Мастера Картогр
	афа\nТребования:\nКупле
	нная глава Греймур\nTea
	mSpeak.\nТабард гильдии 
	бандитов (можно купит
	ь в магазине гильдии 
	за 2000 зол.)\nЛюбой уровень
	\, любая экипировка\nНовички в приоритете
	.
DTSTART:20200822T190000Z
ATTENDEE;CN="Arail";CUTYPE=INDIVIDUAL;PARTSTAT=ACCEPTED:web@
	bandits-clan.ru
END:VEVENT
END:VCALENDAR
