BEGIN:VCALENDAR
VERSION:2.0
PRODID:-//InvisionCommunity Events 4.7.14//EN
METHOD:PUBLISH
CALSCALE:GREGORIAN
REFRESH-INTERVAL:PT15M
X-PUBLISHED-TTL:PT15M
X-WR-CALNAME:The Elder Scrolls Online
NAME:The Elder Scrolls Online
BEGIN:VTIMEZONE
TZID:Europe/London
TZURL:http://tzurl.org/zoneinfo/Europe/London
X-LIC-LOCATION:Europe/London
BEGIN:DAYLIGHT
TZOFFSETFROM:+0000
TZOFFSETTO:+0100
TZNAME:BST
DTSTART:20200329T020000Z
RRULE:FREQ=YEARLY;BYMONTH=3;BYDAY=-1SU
END:DAYLIGHT
BEGIN:STANDARD
TZOFFSETFROM:+0100
TZOFFSETTO:+0000
TZNAME:GMT
DTSTART:20201025T020000Z
RRULE:FREQ=YEARLY;BYMONTH=10;BYDAY=-1SU
END:STANDARD
END:VTIMEZONE
BEGIN:VEVENT
SUMMARY:(TESO) Мировые Боссы Греймура (Greymoor)
DTSTAMP:20200809T113339Z
SEQUENCE:0
UID:7677-1-afb15bc42254ad5fb0481ce5e9c8144d@forum.bandits-clan.ru
ORGANIZER;CN="Timbra":web@bandits-clan.ru
DESCRIPTION:20:00 по Мск Пр
	иглашаю всех
	 желающих 0+
	 уровень 
	на увлек
	ательную
	 экскурсию
	 по Западно
	му Скайриму
	. Программа
	 события:Еж
	едневные зад
	ания на боссо
	в\nЗакроем вс
	е Бури Западног
	о Скайрима и Че
	рного Предела\n
	Разделимся на
	 группы по 12 че
	ловек и пройд
	ем:Вылазки по 
	ежедневным к
	вестам\nЗагля
	нем в 2 Публ
	ичных подземель
	я\, пофармим фра
	гменты костюма 
	Мастера Картогра
	фа\n\n[*]Пофармим 
	дорогие рецепты и мо
	тифы (есть большой шанс
	 найти вещи от 10к до
	 300к зол. за один вечер)\n
	 Требования:Купленная
	 глава Греймур\nTeamSpe
	ak.\nТабард гильдии б
	андитов (можно купить
	 в магазине гильдии за 
	2000 зол.)\nЛюбой уровень\, люб
	ая экипировка\n\nНовички в приоритете.
DTSTART:20200815T170000Z
ATTENDEE;CN="Selena2105";CUTYPE=INDIVIDUAL;PARTSTAT=ACCEPTED
	:web@bandits-clan.ru
ATTENDEE;CN="Sagion";CUTYPE=INDIVIDUAL;PARTSTAT=ACCEPTED:web
	@bandits-clan.ru
ATTENDEE;CN="Fizrukbezruk";CUTYPE=INDIVIDUAL;PARTSTAT=ACCEPT
	ED:web@bandits-clan.ru
ATTENDEE;CN="strikegj";CUTYPE=INDIVIDUAL;PARTSTAT=ACCEPTED:w
	eb@bandits-clan.ru
ATTENDEE;CN="Кира";CUTYPE=INDIVIDUAL;PARTSTAT=ACCEPTED:w
	eb@bandits-clan.ru
ATTENDEE;CN="dimdim4";CUTYPE=INDIVIDUAL;PARTSTAT=ACCEPTED:we
	b@bandits-clan.ru
ATTENDEE;CN="TryHardSkill";CUTYPE=INDIVIDUAL;PARTSTAT=ACCEPT
	ED:web@bandits-clan.ru
ATTENDEE;CN="Konsisi";CUTYPE=INDIVIDUAL;PARTSTAT=ACCEPTED:we
	b@bandits-clan.ru
ATTENDEE;CN="kotrul94";CUTYPE=INDIVIDUAL;PARTSTAT=ACCEPTED:w
	eb@bandits-clan.ru
ATTENDEE;CN="rdnaxelaovvl";CUTYPE=INDIVIDUAL;PARTSTAT=ACCEPT
	ED:web@bandits-clan.ru
END:VEVENT
END:VCALENDAR
