BEGIN:VCALENDAR
VERSION:2.0
PRODID:-//InvisionCommunity Events 4.7.14//EN
METHOD:PUBLISH
CALSCALE:GREGORIAN
REFRESH-INTERVAL:PT15M
X-PUBLISHED-TTL:PT15M
X-WR-CALNAME:The Elder Scrolls Online
NAME:The Elder Scrolls Online
BEGIN:VTIMEZONE
TZID:Europe/London
TZURL:http://tzurl.org/zoneinfo/Europe/London
X-LIC-LOCATION:Europe/London
BEGIN:DAYLIGHT
TZOFFSETFROM:+0000
TZOFFSETTO:+0100
TZNAME:BST
DTSTART:20200329T020000Z
RRULE:FREQ=YEARLY;BYMONTH=3;BYDAY=-1SU
END:DAYLIGHT
BEGIN:STANDARD
TZOFFSETFROM:+0100
TZOFFSETTO:+0000
TZNAME:GMT
DTSTART:20201025T020000Z
RRULE:FREQ=YEARLY;BYMONTH=10;BYDAY=-1SU
END:STANDARD
END:VTIMEZONE
BEGIN:VEVENT
SUMMARY:(TESO) PvP - Имперский Город - Кана
	лизация - Сиро
DTSTAMP:20200801T090714Z
SEQUENCE:1
UID:7611-1-afb15bc42254ad5fb0481ce5e9c8144d@forum.bandits-clan.ru
ORGANIZER;CN="FaZer":web@bandits-clan.ru
DESCRIPTION:1. Поход в Имперски
	й Город.\n- фармим Бо
	ссов\n- делаем 6
	 ежедневных кв
	естов для меда
	лей\n- собираем Н
	ебесные осколки
	\n- зарабатываем о
	чки альянса\n- убив
	аем бананов и тома
	тов\n- собираем Тель
	 Вары 2. Поход в Кана
	лизацию\n- фармим
	 Боссов\n- убиваем
	 Молаг Бала\n- соби
	раем Небесные о
	сколки\n- убиваем
	 бананов и томатов
	\n- зарабатываем очки
	 альянса\n- собираем 
	Тель Вары 3. Поход 
	в Сиродил\n- дела
	ем 2+ ежедневных 
	квестов для ме
	далей\n- собирае
	м Небесные оско
	лки\n- зарабаты
	ваем очки альянс
	а\n- убиваем бан
	анов и томатов Треб
	ования :\n- Персонаж
	 за Даггерфольсик
	й Ковенант\n- 10+ уро
	вень персонажа\n- Гильдейский Таба
	рд\n- Нахождение в Теам Спике 
DTSTART:20200801T100000Z
END:VEVENT
END:VCALENDAR
