BEGIN:VCALENDAR
VERSION:2.0
PRODID:-//InvisionCommunity Events 4.7.14//EN
METHOD:PUBLISH
CALSCALE:GREGORIAN
REFRESH-INTERVAL:PT15M
X-PUBLISHED-TTL:PT15M
X-WR-CALNAME:The Elder Scrolls Online
NAME:The Elder Scrolls Online
BEGIN:VTIMEZONE
TZID:Europe/London
TZURL:http://tzurl.org/zoneinfo/Europe/London
X-LIC-LOCATION:Europe/London
BEGIN:DAYLIGHT
TZOFFSETFROM:+0000
TZOFFSETTO:+0100
TZNAME:BST
DTSTART:20200329T020000Z
RRULE:FREQ=YEARLY;BYMONTH=3;BYDAY=-1SU
END:DAYLIGHT
BEGIN:STANDARD
TZOFFSETFROM:+0100
TZOFFSETTO:+0000
TZNAME:GMT
DTSTART:20201025T020000Z
RRULE:FREQ=YEARLY;BYMONTH=10;BYDAY=-1SU
END:STANDARD
END:VTIMEZONE
BEGIN:VEVENT
SUMMARY:[TESO] ИВЕНТ на Саммерсете (фарм м
	ировых боссов)
DTSTAMP:20200722T140217Z
SEQUENCE:0
UID:7545-1-afb15bc42254ad5fb0481ce5e9c8144d@forum.bandits-clan.ru
ORGANIZER;CN="Aquifolius":web@bandits-clan.ru
DESCRIPTION:С 23 июля по 4 а
	вгуста на С
	аммерсете 
	проводится
	 ивент\, во 
	время кот
	орого тре
	буется вы
	полнять еже
	дневные задани
	я на убийство 
	мировых боссов
	 Саммерсета\, на
	 вылазки\, на г
	лубинные гейз
	еры или триал Кл
	аудрест. В наград
	у обещают на акк
	аунт 3 билета 
	в день за первы
	й дейлик\, плю
	с великолепн
	ый сундук Сам
	мерсета за него
	 же. За остальн
	ые дейлики также 
	будут награды\, но
	 там сундуки поп
	роще. Итак.\nМест
	о - Саммерсет.\
	nФармим дей
	лики на ми
	ровых босс
	ов\, паралле
	льно закры
	ваем ближайш
	ие активиров
	анные гейзеры.
	 Получаем 3 би
	лета события\
	, великолепный
	 сундук ивент
	овый\, простые
	 сундуки ивент
	овые\, кофры за
	 выполнение де
	йликов\, кула
	ндовый лак (мат
	ериал стиля для 
	создания в том чи
	сле алинорской ме
	бели)\, золото\, 
	опыт на персо
	нажей.\nПри же
	лании групп
	ы фарм боссов
	 продолжим на т
	винках. Требован
	ия:\nНаличие купленной 
	главы \"Саммерсет\" и
	ли подписка ESO+\, 
	табард\, прис
	утствие в ти
	мспике обязател
	ьно.\nУровень и 
	альянс персон
	ажа не имеют з
	начения. NB! П
	еред первы
	м дейликом
	 проверьте 
	число уже и
	меющихся биле
	тов! Единовремен
	но на аккаунте м
	ожет быть не боль
	ше 12 билетов\,
	 всё сверх э
	того количества сгор
	ает. Не забывайте потратить билеты у Им
	прессарио.
DTSTART:20200731T170500Z
ATTENDEE;CN="Aquifolius";CUTYPE=INDIVIDUAL;PARTSTAT=ACCEPTED
	:web@bandits-clan.ru
ATTENDEE;CN="Stigmatius";CUTYPE=INDIVIDUAL;PARTSTAT=ACCEPTED
	:web@bandits-clan.ru
ATTENDEE;CN="ZeTroy";CUTYPE=INDIVIDUAL;PARTSTAT=ACCEPTED:web
	@bandits-clan.ru
ATTENDEE;CN="Fetisch";CUTYPE=INDIVIDUAL;PARTSTAT=ACCEPTED:we
	b@bandits-clan.ru
ATTENDEE;CN="Revole";CUTYPE=INDIVIDUAL;PARTSTAT=ACCEPTED:web
	@bandits-clan.ru
ATTENDEE;CN="SpawnOfAzar";CUTYPE=INDIVIDUAL;PARTSTAT=ACCEPTE
	D:web@bandits-clan.ru
ATTENDEE;CN="Drowhard00";CUTYPE=INDIVIDUAL;PARTSTAT=ACCEPTED
	:web@bandits-clan.ru
ATTENDEE;CN="Серга";CUTYPE=INDIVIDUAL;PARTSTAT=ACCEPTED
	:web@bandits-clan.ru
ATTENDEE;CN="vadims55";CUTYPE=INDIVIDUAL;PARTSTAT=ACCEPTED:w
	eb@bandits-clan.ru
ATTENDEE;CN="DAK";CUTYPE=INDIVIDUAL;PARTSTAT=ACCEPTED:web@ba
	ndits-clan.ru
ATTENDEE;CN="xMayoRx";CUTYPE=INDIVIDUAL;PARTSTAT=ACCEPTED:we
	b@bandits-clan.ru
ATTENDEE;CN="Grinko";CUTYPE=INDIVIDUAL;PARTSTAT=ACCEPTED:web
	@bandits-clan.ru
ATTENDEE;CN="Deren";CUTYPE=INDIVIDUAL;PARTSTAT=ACCEPTED:web@
	bandits-clan.ru
ATTENDEE;CN="MenosTheGod";CUTYPE=INDIVIDUAL;PARTSTAT=ACCEPTE
	D:web@bandits-clan.ru
ATTENDEE;CN="Ил Арион";CUTYPE=INDIVIDUAL;PARTSTAT=ACC
	EPTED:web@bandits-clan.ru
END:VEVENT
END:VCALENDAR
