BEGIN:VCALENDAR
VERSION:2.0
PRODID:-//InvisionCommunity Events 4.7.14//EN
METHOD:PUBLISH
CALSCALE:GREGORIAN
REFRESH-INTERVAL:PT15M
X-PUBLISHED-TTL:PT15M
X-WR-CALNAME:The Elder Scrolls Online
NAME:The Elder Scrolls Online
BEGIN:VTIMEZONE
TZID:Europe/London
TZURL:http://tzurl.org/zoneinfo/Europe/London
X-LIC-LOCATION:Europe/London
BEGIN:DAYLIGHT
TZOFFSETFROM:+0000
TZOFFSETTO:+0100
TZNAME:BST
DTSTART:20200329T020000Z
RRULE:FREQ=YEARLY;BYMONTH=3;BYDAY=-1SU
END:DAYLIGHT
BEGIN:STANDARD
TZOFFSETFROM:+0100
TZOFFSETTO:+0000
TZNAME:GMT
DTSTART:20201025T020000Z
RRULE:FREQ=YEARLY;BYMONTH=10;BYDAY=-1SU
END:STANDARD
END:VTIMEZONE
BEGIN:VEVENT
SUMMARY:[TESO] Учебный Клаудрест (нормал)
DTSTAMP:20200720T072338Z
SEQUENCE:0
UID:7522-1-afb15bc42254ad5fb0481ce5e9c8144d@forum.bandits-clan.ru
ORGANIZER;CN="Winchester":web@bandits-clan.ru
DESCRIPTION:Что? Cloudrest normal mode.\nГде? Grand Topal Hidea
	way. Для того\, чтобы
	 туда попасть\, необх
	одимо в ростере Гильди
	и найти @Kibert и посетить её 
	дом.\nКогда? Начало
	 события: 20:00 по м
	ск. Ориентиро
	вочная длите
	льность собы
	тия: 1 час. Ц
	ель: обуч
	ить нови
	чков тактик
	е прохождения данного
	 триала. Требования:Ми
	нимальное звание: Thief/Soldie
	r\nМинимальный уровень: 160 cp\nНакидка Ги
	льдии Daggerfall/Vanguard/Rising Bandits (та
	бард)\nДополнение \"Саммерсет
	\" (или подписка)\nTeamSpeak
	\n\nВ случае у
	спешного пр
	охождения\
	, всем прош
	едшим будет по
	ставлена отметка в спи
	ске представителей Гиль
	дии. 1-2 танк\, 2 хила\
	, 8-9 дд будут дл
	я нас идеальн
	ым составом. 
	Приоритет для иг
	роков\, которые 
	ни разу не пос
	ещали данный 
	триал и тех\
	, кому необх
	одима отметка о пр
	охождении. Пишит
	е в комментариях св
	ою роль и Ваш UserID. Приход
	ите заранее\, берегите свои и чужие нервы
	.
DTSTART:20200724T170000Z
ATTENDEE;CN="Primus";CUTYPE=INDIVIDUAL;PARTSTAT=ACCEPTED:web
	@bandits-clan.ru
ATTENDEE;CN="deathwach";CUTYPE=INDIVIDUAL;PARTSTAT=ACCEPTED:
	web@bandits-clan.ru
ATTENDEE;CN="Winchester";CUTYPE=INDIVIDUAL;PARTSTAT=ACCEPTED
	:web@bandits-clan.ru
ATTENDEE;CN="Justdunk";CUTYPE=INDIVIDUAL;PARTSTAT=ACCEPTED:w
	eb@bandits-clan.ru
ATTENDEE;CN="Irbiss";CUTYPE=INDIVIDUAL;PARTSTAT=ACCEPTED:web
	@bandits-clan.ru
ATTENDEE;CN="Zereaell";CUTYPE=INDIVIDUAL;PARTSTAT=ACCEPTED:w
	eb@bandits-clan.ru
ATTENDEE;CN="Denchik";CUTYPE=INDIVIDUAL;PARTSTAT=ACCEPTED:we
	b@bandits-clan.ru
ATTENDEE;CN="Sinbann";CUTYPE=INDIVIDUAL;PARTSTAT=ACCEPTED:we
	b@bandits-clan.ru
ATTENDEE;CN="xtrantor";CUTYPE=INDIVIDUAL;PARTSTAT=ACCEPTED:w
	eb@bandits-clan.ru
ATTENDEE;CN="Immobille";CUTYPE=INDIVIDUAL;PARTSTAT=ACCEPTED:
	web@bandits-clan.ru
ATTENDEE;CN="Fetisch";CUTYPE=INDIVIDUAL;PARTSTAT=ACCEPTED:we
	b@bandits-clan.ru
ATTENDEE;CN="Hloile";CUTYPE=INDIVIDUAL;PARTSTAT=ACCEPTED:web
	@bandits-clan.ru
ATTENDEE;CN="Erinyar";CUTYPE=INDIVIDUAL;PARTSTAT=ACCEPTED:we
	b@bandits-clan.ru
ATTENDEE;CN="ARGNIST";CUTYPE=INDIVIDUAL;PARTSTAT=ACCEPTED:we
	b@bandits-clan.ru
ATTENDEE;CN="bombue";CUTYPE=INDIVIDUAL;PARTSTAT=ACCEPTED:web
	@bandits-clan.ru
END:VEVENT
END:VCALENDAR
