BEGIN:VCALENDAR
VERSION:2.0
PRODID:-//InvisionCommunity Events 4.7.14//EN
METHOD:PUBLISH
CALSCALE:GREGORIAN
REFRESH-INTERVAL:PT15M
X-PUBLISHED-TTL:PT15M
X-WR-CALNAME:The Elder Scrolls Online
NAME:The Elder Scrolls Online
BEGIN:VTIMEZONE
TZID:Europe/London
TZURL:http://tzurl.org/zoneinfo/Europe/London
X-LIC-LOCATION:Europe/London
BEGIN:DAYLIGHT
TZOFFSETFROM:+0000
TZOFFSETTO:+0100
TZNAME:BST
DTSTART:20200329T020000Z
RRULE:FREQ=YEARLY;BYMONTH=3;BYDAY=-1SU
END:DAYLIGHT
BEGIN:STANDARD
TZOFFSETFROM:+0100
TZOFFSETTO:+0000
TZNAME:GMT
DTSTART:20201025T020000Z
RRULE:FREQ=YEARLY;BYMONTH=10;BYDAY=-1SU
END:STANDARD
END:VTIMEZONE
BEGIN:VEVENT
SUMMARY:[TESO] Учебные испытания Краглорна
	 на выбор (норм)
DTSTAMP:20200714T062309Z
SEQUENCE:0
UID:7485-1-afb15bc42254ad5fb0481ce5e9c8144d@forum.bandits-clan.ru
ORGANIZER;CN="Winchester":web@bandits-clan.ru
DESCRIPTION:Что? Этерианский Архив (
	nAA)\, Цитадель Хель-Ра (nHRC)\, С
	анктум-Офидия (nSO) - на выбор 
	группы\, можно и два подряд\nГде? Gra
	nd Topal Hideaway. Для того\, ч
	тобы туда попасть\, 
	необходимо в ростере 
	Гильдии найти @Kibert и посе
	тить её дом.\nКогда?
	 Начало события: 19
	:30 по мск. Ориен
	тировочная д
	лительность 
	события: 2 ч
	аса. Цель
	: обучить
	 новичков 
	тактикам прохо
	ждения испытан
	ий. Требования:Минималь
	ное звание: Thief\nМинимальный ур
	овень: 160 cp\nНакидка Гильдии Daggerfall/Vanguar
	d/Rising Bandits (табард)\nTeamSpeak\n\n
	В случае ус
	пешного про
	хождения\,
	 всем прош
	едшим будет по
	ставлена отметка в сп
	иске представителей Гильд
	ии. \n1-2 танка\, 2 хила\
	, 8-9 дд будут дл
	я нас идеальн
	ым составом. 
	Приоритет для
	 игроков\, котор
	ые ни разу не п
	осещали данн
	ые испытания 
	и тех\, кому 
	необходима от
	метка о прохожден
	ии. Пишите в коммен
	тариях свою роль и В
	аш UserID. Приходите заранее\, берегите св
	ои и чужие нервы.
DTSTART:20200716T163000Z
ATTENDEE;CN="Winchester";CUTYPE=INDIVIDUAL;PARTSTAT=ACCEPTED
	:web@bandits-clan.ru
ATTENDEE;CN="Viardon";CUTYPE=INDIVIDUAL;PARTSTAT=ACCEPTED:we
	b@bandits-clan.ru
ATTENDEE;CN="Ottar";CUTYPE=INDIVIDUAL;PARTSTAT=ACCEPTED:web@
	bandits-clan.ru
ATTENDEE;CN="Zereaell";CUTYPE=INDIVIDUAL;PARTSTAT=ACCEPTED:w
	eb@bandits-clan.ru
ATTENDEE;CN="Tenerife";CUTYPE=INDIVIDUAL;PARTSTAT=ACCEPTED:w
	eb@bandits-clan.ru
ATTENDEE;CN="FomaBy";CUTYPE=INDIVIDUAL;PARTSTAT=ACCEPTED:web
	@bandits-clan.ru
ATTENDEE;CN="Fetisch";CUTYPE=INDIVIDUAL;PARTSTAT=ACCEPTED:we
	b@bandits-clan.ru
ATTENDEE;CN="Shenyin";CUTYPE=INDIVIDUAL;PARTSTAT=ACCEPTED:we
	b@bandits-clan.ru
ATTENDEE;CN="SpawnOfAzar";CUTYPE=INDIVIDUAL;PARTSTAT=ACCEPTE
	D:web@bandits-clan.ru
ATTENDEE;CN="Immobille";CUTYPE=INDIVIDUAL;PARTSTAT=ACCEPTED:
	web@bandits-clan.ru
ATTENDEE;CN="RNDleshiy";CUTYPE=INDIVIDUAL;PARTSTAT=ACCEPTED:
	web@bandits-clan.ru
ATTENDEE;CN="CMDRAstion";CUTYPE=INDIVIDUAL;PARTSTAT=ACCEPTED
	:web@bandits-clan.ru
ATTENDEE;CN="bombue";CUTYPE=INDIVIDUAL;PARTSTAT=ACCEPTED:web
	@bandits-clan.ru
ATTENDEE;CN="Primus";CUTYPE=INDIVIDUAL;PARTSTAT=ACCEPTED:web
	@bandits-clan.ru
END:VEVENT
END:VCALENDAR
