BEGIN:VCALENDAR
VERSION:2.0
PRODID:-//InvisionCommunity Events 4.7.14//EN
METHOD:PUBLISH
CALSCALE:GREGORIAN
REFRESH-INTERVAL:PT15M
X-PUBLISHED-TTL:PT15M
X-WR-CALNAME:The Elder Scrolls Online
NAME:The Elder Scrolls Online
BEGIN:VTIMEZONE
TZID:Europe/London
TZURL:http://tzurl.org/zoneinfo/Europe/London
X-LIC-LOCATION:Europe/London
BEGIN:DAYLIGHT
TZOFFSETFROM:+0000
TZOFFSETTO:+0100
TZNAME:BST
DTSTART:20200329T020000Z
RRULE:FREQ=YEARLY;BYMONTH=3;BYDAY=-1SU
END:DAYLIGHT
BEGIN:STANDARD
TZOFFSETFROM:+0100
TZOFFSETTO:+0000
TZNAME:GMT
DTSTART:20201025T020000Z
RRULE:FREQ=YEARLY;BYMONTH=10;BYDAY=-1SU
END:STANDARD
END:VTIMEZONE
BEGIN:VEVENT
SUMMARY:(TESO) Боссы и дольмены Пакта (0+ур
	овень)
DTSTAMP:20200706T074538Z
SEQUENCE:0
UID:7438-1-afb15bc42254ad5fb0481ce5e9c8144d@forum.bandits-clan.ru
ORGANIZER;CN="Bandit":web@bandits-clan.ru
DESCRIPTION:С 12 00 по Мск Пр
	иглашаю всех жел
	ающих (уровень\,
	 шмот и скиллы
	 не важны\, тол
	ько хорошее 
	настроение) п
	рогуляться по
	 боссам и доль
	менам (темным 
	якорям Молаг 
	Бала) в локац
	иях Пакта. Захват
	им Марку Смерти\, 
	которую пропустил
	и в прошлый раз\, и\
	, возможно\, оста
	вим хвостик на с
	лед неделю\, если 
	Молаг Бал опять 
	будет долго спа
	ть))) Наливайте 
	чай\, и в путь! Дополнений не требуется.
	 Тимспик\, табарды.
DTSTART:20200711T090000Z
END:VEVENT
END:VCALENDAR
