BEGIN:VCALENDAR
VERSION:2.0
PRODID:-//InvisionCommunity Events 4.7.14//EN
METHOD:PUBLISH
CALSCALE:GREGORIAN
REFRESH-INTERVAL:PT15M
X-PUBLISHED-TTL:PT15M
X-WR-CALNAME:The Elder Scrolls Online
NAME:The Elder Scrolls Online
BEGIN:VTIMEZONE
TZID:Europe/London
TZURL:http://tzurl.org/zoneinfo/Europe/London
X-LIC-LOCATION:Europe/London
BEGIN:DAYLIGHT
TZOFFSETFROM:+0000
TZOFFSETTO:+0100
TZNAME:BST
DTSTART:20200329T020000Z
RRULE:FREQ=YEARLY;BYMONTH=3;BYDAY=-1SU
END:DAYLIGHT
BEGIN:STANDARD
TZOFFSETFROM:+0100
TZOFFSETTO:+0000
TZNAME:GMT
DTSTART:20201025T020000Z
RRULE:FREQ=YEARLY;BYMONTH=10;BYDAY=-1SU
END:STANDARD
END:VTIMEZONE
BEGIN:VEVENT
SUMMARY:[TESO] Открытый рейд статика \"Back To Re
	ality\" vCR
DTSTAMP:20200706T041615Z
SEQUENCE:2
UID:7436-1-afb15bc42254ad5fb0481ce5e9c8144d@forum.bandits-clan.ru
ORGANIZER;CN="I am ready to die":web@bandits-clan.ru
DESCRIPTION:Открытый рейд статик \"Back To 
	Reality\" 19:00 (мск) Приглаш
	аем посетить открытый
	 рейд статика \"БТР\" в v
	CR+0.\nСтатик ищет тал
	антливых (мана)д
	дшек\, танков и х
	илов.\nЕсли хо
	тите попасть в
	 основной состав ста
	тика\, приходите и покажи
	те себя в опен рейде. 1.600C
	P+\n2.Микрофон\, наушники\
	, ТС\n3.аттестация на вашу
	 роль Нужны 1 танк\, 1 х
	ил\, 4-5 дд\nЗаписывайте
	сь в коментах\, пиш
	ите ваш ИД\, роль и 
	гилдию (ДБ\,ВБ\,РБ)
	 Продолжительность со
	бытия 2-3 часа. Быть в т
	с и гильдхоле в 18:50 
	в Бандитских табар
	дах\, рейд эквипе\, с
	 бустами (еда\, 
	банки) и ремонтн
	ыми комплектами\, и хорошим н
	астроением. Тема статика : http://forum.bandits...sh
	owtopic=70500
DTSTART:20200709T160000Z
ATTENDEE;CN="Flinch";CUTYPE=INDIVIDUAL;PARTSTAT=ACCEPTED:web
	@bandits-clan.ru
ATTENDEE;CN="Skybae";CUTYPE=INDIVIDUAL;PARTSTAT=ACCEPTED:web
	@bandits-clan.ru
ATTENDEE;CN="Actorion";CUTYPE=INDIVIDUAL;PARTSTAT=ACCEPTED:w
	eb@bandits-clan.ru
ATTENDEE;CN="Ctpahhik";CUTYPE=INDIVIDUAL;PARTSTAT=ACCEPTED:w
	eb@bandits-clan.ru
END:VEVENT
END:VCALENDAR
