BEGIN:VCALENDAR
VERSION:2.0
PRODID:-//InvisionCommunity Events 4.7.14//EN
METHOD:PUBLISH
CALSCALE:GREGORIAN
REFRESH-INTERVAL:PT15M
X-PUBLISHED-TTL:PT15M
X-WR-CALNAME:The Elder Scrolls Online
NAME:The Elder Scrolls Online
BEGIN:VTIMEZONE
TZID:Europe/London
TZURL:http://tzurl.org/zoneinfo/Europe/London
X-LIC-LOCATION:Europe/London
BEGIN:DAYLIGHT
TZOFFSETFROM:+0000
TZOFFSETTO:+0100
TZNAME:BST
DTSTART:20200329T020000Z
RRULE:FREQ=YEARLY;BYMONTH=3;BYDAY=-1SU
END:DAYLIGHT
BEGIN:STANDARD
TZOFFSETFROM:+0100
TZOFFSETTO:+0000
TZNAME:GMT
DTSTART:20201025T020000Z
RRULE:FREQ=YEARLY;BYMONTH=10;BYDAY=-1SU
END:STANDARD
END:VTIMEZONE
BEGIN:VEVENT
SUMMARY:(TESO) Боссы и Драконы Эльсвейра
DTSTAMP:20200705T090125Z
SEQUENCE:2
UID:7423-1-afb15bc42254ad5fb0481ce5e9c8144d@forum.bandits-clan.ru
ORGANIZER;CN="Кира":web@bandits-clan.ru
DESCRIPTION:20 30 по Мск Пр
	иглашаю всех 
	желающих 0+ у
	ровень на увл
	екательную э
	кскурсию по Эл
	ьсвейру.\nПоох
	отимся на драк
	онов\, выполни
	м ачивки\, 
	соберем н
	ебесные ос
	колки\, вып
	олним ежедне
	вные задания Требуется:
	 купленная глава Эльсвейр
	а\, желание\, TeamSpeak\, г
	ильдейская на
	кидка.\nУровень
	 и шмот не важ
	ны. Вместе 
	- веселее!П
	рогуляемс
	я по теплы
	м пескам! 
	События г
	лавы разво
	рачиваются 
	на родине к
	аджитов — 
	Эльсвейре. Н
	ачинаются о
	ни после то
	го как обману
	тый своей сест
	рой\, самозва
	ной королево
	й Евраксией\,
	 Абнур Тарн
	 вместе со
	 своей по
	мощницей 
	случайно 
	выпускают 
	из заточен
	ия великог
	о дракона К
	альгронтида 
	и его сороди
	чей. Теперь
	 драконы в
	ернулись 
	в Тамриэль
	 и ваша цель
	 — предотвра
	тить разруше
	ние родины ка
	джитов. Мужа
	йтесь\, потому 
	что эти огро
	мные чудовища
	 не являются н
	епобедимыми\,
	 и при правил
	ьном планиров
	ании\, тактике
	 и экипировки
	 они могут б
	ыть побежд
	ены и даже 
	уничтожены
	. Координация
	 и мастерство 
	являются ключев
	ыми для победы н
	ад драконами\, но
	 если вам это удас
	тся\, вы получите 
	награды\, которых нет нигде в Нирне. «Ос
	торожно\, в небесах!»
DTSTART:20200813T173000Z
ATTENDEE;CN="Ivrisha";CUTYPE=INDIVIDUAL;PARTSTAT=ACCEPTED:we
	b@bandits-clan.ru
ATTENDEE;CN="Timbra";CUTYPE=INDIVIDUAL;PARTSTAT=ACCEPTED:web
	@bandits-clan.ru
ATTENDEE;CN="Lex Sinner";CUTYPE=INDIVIDUAL;PARTSTAT=ACCEPTED
	:web@bandits-clan.ru
ATTENDEE;CN="Berrssi";CUTYPE=INDIVIDUAL;PARTSTAT=ACCEPTED:we
	b@bandits-clan.ru
ATTENDEE;CN="xMayoRx";CUTYPE=INDIVIDUAL;PARTSTAT=ACCEPTED:we
	b@bandits-clan.ru
END:VEVENT
END:VCALENDAR
