BEGIN:VCALENDAR
VERSION:2.0
PRODID:-//InvisionCommunity Events 4.7.14//EN
METHOD:PUBLISH
CALSCALE:GREGORIAN
REFRESH-INTERVAL:PT15M
X-PUBLISHED-TTL:PT15M
X-WR-CALNAME:The Elder Scrolls Online
NAME:The Elder Scrolls Online
BEGIN:VTIMEZONE
TZID:Europe/London
TZURL:http://tzurl.org/zoneinfo/Europe/London
X-LIC-LOCATION:Europe/London
BEGIN:DAYLIGHT
TZOFFSETFROM:+0000
TZOFFSETTO:+0100
TZNAME:BST
DTSTART:20200329T020000Z
RRULE:FREQ=YEARLY;BYMONTH=3;BYDAY=-1SU
END:DAYLIGHT
BEGIN:STANDARD
TZOFFSETFROM:+0100
TZOFFSETTO:+0000
TZNAME:GMT
DTSTART:20201025T020000Z
RRULE:FREQ=YEARLY;BYMONTH=10;BYDAY=-1SU
END:STANDARD
END:VTIMEZONE
BEGIN:VEVENT
SUMMARY:20.00 [GW2] 99CM для новичков
DTSTAMP:20200704T074411Z
SEQUENCE:1
UID:7414-1-afb15bc42254ad5fb0481ce5e9c8144d@forum.bandits-clan.ru
ORGANIZER;CN="Mr Dno":web@bandits-clan.ru
DESCRIPTION:Приглашаю на 
	гильдейный ивент : обучение
	 99CM фракталу для новичков.\nДата: 0
	8.07.2020 (среда)\nВремя: 20.00\nУсловия: налич
	ие TeamSpeak или Discord\, Asc шмот по мете
	\, 150 AR.\nПримечан
	ие: в случа
	е выпадения сложных
	 инстабилок возможен перенос ивента 
	на другой день
DTSTART;VALUE=DATE:20200708
END:VEVENT
END:VCALENDAR
