BEGIN:VCALENDAR
VERSION:2.0
PRODID:-//InvisionCommunity Events 4.7.14//EN
METHOD:PUBLISH
CALSCALE:GREGORIAN
REFRESH-INTERVAL:PT15M
X-PUBLISHED-TTL:PT15M
X-WR-CALNAME:The Elder Scrolls Online
NAME:The Elder Scrolls Online
BEGIN:VTIMEZONE
TZID:Europe/London
TZURL:http://tzurl.org/zoneinfo/Europe/London
X-LIC-LOCATION:Europe/London
BEGIN:DAYLIGHT
TZOFFSETFROM:+0000
TZOFFSETTO:+0100
TZNAME:BST
DTSTART:20200329T020000Z
RRULE:FREQ=YEARLY;BYMONTH=3;BYDAY=-1SU
END:DAYLIGHT
BEGIN:STANDARD
TZOFFSETFROM:+0100
TZOFFSETTO:+0000
TZNAME:GMT
DTSTART:20201025T020000Z
RRULE:FREQ=YEARLY;BYMONTH=10;BYDAY=-1SU
END:STANDARD
END:VTIMEZONE
BEGIN:VEVENT
SUMMARY:(TESO) Учебный триал Изоляционный 
	Санктуарий (vAS)
DTSTAMP:20200629T105743Z
SEQUENCE:0
UID:7395-1-afb15bc42254ad5fb0481ce5e9c8144d@forum.bandits-clan.ru
ORGANIZER;CN="buviGuvix":web@bandits-clan.ru
DESCRIPTION:В 14.00 по МСК   Приг
	лашаю всех желаю
	щих в звании Rai
	der+ пройти испы
	тание Изоляцион
	ный Санктуарий (вете
	ранская версия).\nНам 
	понадобятся:\n1 танк
	\n2 лекаря\n9 дд 
	  Для похода в
	 данный триал у
	 вас должно бы
	ть приобретено допо
	лнение \" Заводной город
	\"   Требования:\n-зван
	ие Raider+ \n-наличие
	 отметки о 
	прохождении
	 нормал версии три
	ала\n-наличие гильдейско
	го табарда\n-присутствие в 
	TeamSpeak (комната \"Учебный
	 триал\")\n-наличие
	 ремкомплектов\, ед
	ы\, банок   Пишите
	 ниже свою роль и и
	гровой id\, если он о
	тличается от игров
	ого\, нажимайте кнопк
	у \"я пойду\".\nСбор начинается за 15 минут
	 до начала события.
DTSTART:20200704T110000Z
ATTENDEE;CN="Chezanah";CUTYPE=INDIVIDUAL;PARTSTAT=ACCEPTED:w
	eb@bandits-clan.ru
ATTENDEE;CN="Reyesa";CUTYPE=INDIVIDUAL;PARTSTAT=ACCEPTED:web
	@bandits-clan.ru
ATTENDEE;CN="buviGuvix";CUTYPE=INDIVIDUAL;PARTSTAT=ACCEPTED:
	web@bandits-clan.ru
ATTENDEE;CN="klim";CUTYPE=INDIVIDUAL;PARTSTAT=ACCEPTED:web@b
	andits-clan.ru
ATTENDEE;CN="Skybae";CUTYPE=INDIVIDUAL;PARTSTAT=ACCEPTED:web
	@bandits-clan.ru
ATTENDEE;CN="Risad";CUTYPE=INDIVIDUAL;PARTSTAT=ACCEPTED:web@
	bandits-clan.ru
ATTENDEE;CN="armares";CUTYPE=INDIVIDUAL;PARTSTAT=ACCEPTED:we
	b@bandits-clan.ru
ATTENDEE;CN="Actorion";CUTYPE=INDIVIDUAL;PARTSTAT=ACCEPTED:w
	eb@bandits-clan.ru
ATTENDEE;CN="naberie";CUTYPE=INDIVIDUAL;PARTSTAT=ACCEPTED:we
	b@bandits-clan.ru
ATTENDEE;CN="Fetisch";CUTYPE=INDIVIDUAL;PARTSTAT=ACCEPTED:we
	b@bandits-clan.ru
ATTENDEE;CN="BrightEyes";CUTYPE=INDIVIDUAL;PARTSTAT=ACCEPTED
	:web@bandits-clan.ru
END:VEVENT
END:VCALENDAR
