BEGIN:VCALENDAR
VERSION:2.0
PRODID:-//InvisionCommunity Events 4.7.14//EN
METHOD:PUBLISH
CALSCALE:GREGORIAN
REFRESH-INTERVAL:PT15M
X-PUBLISHED-TTL:PT15M
X-WR-CALNAME:The Elder Scrolls Online
NAME:The Elder Scrolls Online
BEGIN:VTIMEZONE
TZID:Europe/London
TZURL:http://tzurl.org/zoneinfo/Europe/London
X-LIC-LOCATION:Europe/London
BEGIN:DAYLIGHT
TZOFFSETFROM:+0000
TZOFFSETTO:+0100
TZNAME:BST
DTSTART:20200329T020000Z
RRULE:FREQ=YEARLY;BYMONTH=3;BYDAY=-1SU
END:DAYLIGHT
BEGIN:STANDARD
TZOFFSETFROM:+0100
TZOFFSETTO:+0000
TZNAME:GMT
DTSTART:20201025T020000Z
RRULE:FREQ=YEARLY;BYMONTH=10;BYDAY=-1SU
END:STANDARD
END:VTIMEZONE
BEGIN:VEVENT
SUMMARY:(TESO) Боссы и дольмены Доминио
	на (0+ уровень)
DTSTAMP:20200629T052703Z
SEQUENCE:0
UID:7384-1-afb15bc42254ad5fb0481ce5e9c8144d@forum.bandits-clan.ru
ORGANIZER;CN="Bandit":web@bandits-clan.ru
DESCRIPTION:С 12 00 по Мс
	к Дополнени
	й не требуетс
	я. Приглашаю 
	всех желающих 
	(уровень и шмо
	т не важны) пр
	обежаться и сд
	елать ачивки н
	а боссов и доль
	мены (темные якоря
	 Молаг Бала) в лока
	циях Доминиона - А
	уридон\, Гратвуд
	\, Гриншейд и дал
	ее - пока нам
	 не надоест сраж
	аться. Приятная
	 компания\, хорош
	ее настроение - в
	се\, что вам потребуетс
	я в этом походе! Тимспик\, канал Мировы
	е боссы.
DTSTART:20200704T090000Z
END:VEVENT
END:VCALENDAR
