BEGIN:VCALENDAR
VERSION:2.0
PRODID:-//InvisionCommunity Events 4.7.14//EN
METHOD:PUBLISH
CALSCALE:GREGORIAN
REFRESH-INTERVAL:PT15M
X-PUBLISHED-TTL:PT15M
X-WR-CALNAME:The Elder Scrolls Online
NAME:The Elder Scrolls Online
BEGIN:VTIMEZONE
TZID:Europe/London
TZURL:http://tzurl.org/zoneinfo/Europe/London
X-LIC-LOCATION:Europe/London
BEGIN:DAYLIGHT
TZOFFSETFROM:+0000
TZOFFSETTO:+0100
TZNAME:BST
DTSTART:20200329T020000Z
RRULE:FREQ=YEARLY;BYMONTH=3;BYDAY=-1SU
END:DAYLIGHT
BEGIN:STANDARD
TZOFFSETFROM:+0100
TZOFFSETTO:+0000
TZNAME:GMT
DTSTART:20201025T020000Z
RRULE:FREQ=YEARLY;BYMONTH=10;BYDAY=-1SU
END:STANDARD
END:VTIMEZONE
BEGIN:VEVENT
SUMMARY:[TESO] Открытый Рейд Rabbids vCR+0
DTSTAMP:20200625T015242Z
SEQUENCE:2
UID:7356-1-afb15bc42254ad5fb0481ce5e9c8144d@forum.bandits-clan.ru
ORGANIZER;CN="Neuro-Mancer":web@bandits-clan.ru
DESCRIPTION:Открытый рейд Rabbids  vCR+0\nhttp://forum.bandi
	ts...showtopic=71754 В этих рей
	дах я смотрю кто
	 как играет из н
	овичков и есл
	и меня и того 
	кого я позов
	у в будущем б
	удут устраива
	ть условия рейда
	 то этот игрок прод
	олжит с нами рейди
	ть.\nДаже если у вас 
	низкий чп\, но вы д
	остойно играете
	\, я возьму вас с
	 перспективой\, 
	что вы докачает
	есь и играть будет
	е еще лучше.\nВ пе
	рвую очередь в рейд п
	опадут те\, кто отметился в теме запис
	и в рейд http://forum.bandits...showtopic=717
	54 и они соотв
	етствуют тр
	ебованиям с 
	оговоркой вы
	ше.\nОстальны
	х добираю по ос
	таточному принципу. 
	Это своего рода отбор
	 игроков в рейд Rabbids
	\, который в ско
	ром времени п
	ерерастет в с
	татик\, как 
	только мы 
	доберем игроко
	в для стабильных 
	походов с минимально
	й текучкой. сбор в 20:00 
	в гильд холе Требован
	ия 350+ чп Нужны 1-2 танк с а
	тестацией. 1 хил с атест
	ацией. 8-9 дд 30+дпс
	 С собой: табард\
	, еда и алхимия Дл
	я участия нажимайт
	е на кнопку \"пойду\"\,
	 а в комментарии 
	свою роль и игров
	ой id\nДля того 
	что бы небыло 
	недомолвок и о
	бид.Если собра
	вшихся будет бо
	льше чем нужно\, то
	 в рейд будут браться игроки с бо
	лее высоким дпс и чп.
DTSTART:20200629T170000Z
ATTENDEE;CN="Neuro-Mancer";CUTYPE=INDIVIDUAL;PARTSTAT=ACCEPT
	ED:web@bandits-clan.ru
ATTENDEE;CN="Murzzikk";CUTYPE=INDIVIDUAL;PARTSTAT=ACCEPTED:w
	eb@bandits-clan.ru
ATTENDEE;CN="wentef";CUTYPE=INDIVIDUAL;PARTSTAT=ACCEPTED:web
	@bandits-clan.ru
ATTENDEE;CN="octopus_d";CUTYPE=INDIVIDUAL;PARTSTAT=ACCEPTED:
	web@bandits-clan.ru
ATTENDEE;CN="Thilse";CUTYPE=INDIVIDUAL;PARTSTAT=ACCEPTED:web
	@bandits-clan.ru
ATTENDEE;CN="Ingolanto";CUTYPE=INDIVIDUAL;PARTSTAT=ACCEPTED:
	web@bandits-clan.ru
ATTENDEE;CN="naberie";CUTYPE=INDIVIDUAL;PARTSTAT=ACCEPTED:we
	b@bandits-clan.ru
ATTENDEE;CN="Timbra";CUTYPE=INDIVIDUAL;PARTSTAT=ACCEPTED:web
	@bandits-clan.ru
ATTENDEE;CN="BanditAsar";CUTYPE=INDIVIDUAL;PARTSTAT=ACCEPTED
	:web@bandits-clan.ru
ATTENDEE;CN="KitzyTyzy";CUTYPE=INDIVIDUAL;PARTSTAT=ACCEPTED:
	web@bandits-clan.ru
END:VEVENT
END:VCALENDAR
