BEGIN:VCALENDAR
VERSION:2.0
PRODID:-//InvisionCommunity Events 4.7.14//EN
METHOD:PUBLISH
CALSCALE:GREGORIAN
REFRESH-INTERVAL:PT15M
X-PUBLISHED-TTL:PT15M
X-WR-CALNAME:The Elder Scrolls Online
NAME:The Elder Scrolls Online
BEGIN:VTIMEZONE
TZID:Europe/London
TZURL:http://tzurl.org/zoneinfo/Europe/London
X-LIC-LOCATION:Europe/London
BEGIN:DAYLIGHT
TZOFFSETFROM:+0000
TZOFFSETTO:+0100
TZNAME:BST
DTSTART:20200329T020000Z
RRULE:FREQ=YEARLY;BYMONTH=3;BYDAY=-1SU
END:DAYLIGHT
BEGIN:STANDARD
TZOFFSETFROM:+0100
TZOFFSETTO:+0000
TZNAME:GMT
DTSTART:20201025T020000Z
RRULE:FREQ=YEARLY;BYMONTH=10;BYDAY=-1SU
END:STANDARD
END:VTIMEZONE
BEGIN:VEVENT
SUMMARY:[TESO] Учебное испытание Санктум-Оф
	идия (ветеран)
DTSTAMP:20200622T150322Z
SEQUENCE:0
UID:7348-1-afb15bc42254ad5fb0481ce5e9c8144d@forum.bandits-clan.ru
ORGANIZER;CN="Winchester":web@bandits-clan.ru
DESCRIPTION:Что? Sanctum Ophidia veteran mode.\nГде? Grand Topal H
	ideaway. Для того\, чт
	обы туда попасть\, н
	еобходимо в ростере Г
	ильдии найти @Kibert и посет
	ить её дом.\nКогда? 
	Начало события: 18
	:00 по мск. Ориен
	тировочная д
	лительность 
	события: 2 ч
	аса. Цель
	: обучить
	 новичко
	в тактике прох
	ождения данного 
	триала. Требования
	:Минимальное звание
	: Raider (возможны иск
	лючения\, в случае
	 наличия аттестац
	ии)\nОтметка о закр
	ытии nSO в соста
	ве гильдии (в
	озможны исклю
	чения\, в случа
	е наличия аттестац
	ии)\nАттестация на св
	ою роль.\nМинимальный уровень: 160 c
	p\nНакидка Гильдии Daggerfall/Vanguard/Rising Bandits 
	(табард)\nTeamSpeak\n\nВ 
	случае успе
	шного прохо
	ждения\, вс
	ем прошедши
	м будет поставл
	ена отметка в списк
	е представителей Гил
	ьдии. 2 танка\, 2 хи
	ла\, 8 дд будут 
	для нас идеал
	ьным составом
	. Приоритет для 
	игроков\, котор
	ые ни разу не п
	осещали данн
	ый триал и те
	х\, кому нео
	бходима отметка 
	о прохождении. Пи
	шите в комментариях
	 свою роль и Ваш UserID
	. Приходите заранее\, берегите свои и чу
	жие нервы.
DTSTART:20200628T150000Z
ATTENDEE;CN="Winchester";CUTYPE=INDIVIDUAL;PARTSTAT=ACCEPTED
	:web@bandits-clan.ru
ATTENDEE;CN="wentef";CUTYPE=INDIVIDUAL;PARTSTAT=ACCEPTED:web
	@bandits-clan.ru
ATTENDEE;CN="Slayserak555";CUTYPE=INDIVIDUAL;PARTSTAT=ACCEPT
	ED:web@bandits-clan.ru
ATTENDEE;CN="Risad";CUTYPE=INDIVIDUAL;PARTSTAT=ACCEPTED:web@
	bandits-clan.ru
ATTENDEE;CN="naberie";CUTYPE=INDIVIDUAL;PARTSTAT=ACCEPTED:we
	b@bandits-clan.ru
ATTENDEE;CN="Sinbann";CUTYPE=INDIVIDUAL;PARTSTAT=ACCEPTED:we
	b@bandits-clan.ru
ATTENDEE;CN="Zatarn";CUTYPE=INDIVIDUAL;PARTSTAT=ACCEPTED:web
	@bandits-clan.ru
ATTENDEE;CN="Skybae";CUTYPE=INDIVIDUAL;PARTSTAT=ACCEPTED:web
	@bandits-clan.ru
ATTENDEE;CN="Pastor Jeff";CUTYPE=INDIVIDUAL;PARTSTAT=ACCEPTE
	D:web@bandits-clan.ru
ATTENDEE;CN="KitzyTyzy";CUTYPE=INDIVIDUAL;PARTSTAT=ACCEPTED:
	web@bandits-clan.ru
ATTENDEE;CN="Александр57";CUTYPE=INDIVIDUAL;PARTSTA
	T=ACCEPTED:web@bandits-clan.ru
END:VEVENT
END:VCALENDAR
