BEGIN:VCALENDAR
VERSION:2.0
PRODID:-//InvisionCommunity Events 4.7.14//EN
METHOD:PUBLISH
CALSCALE:GREGORIAN
REFRESH-INTERVAL:PT15M
X-PUBLISHED-TTL:PT15M
X-WR-CALNAME:The Elder Scrolls Online
NAME:The Elder Scrolls Online
BEGIN:VTIMEZONE
TZID:Europe/London
TZURL:http://tzurl.org/zoneinfo/Europe/London
X-LIC-LOCATION:Europe/London
BEGIN:DAYLIGHT
TZOFFSETFROM:+0000
TZOFFSETTO:+0100
TZNAME:BST
DTSTART:20200329T020000Z
RRULE:FREQ=YEARLY;BYMONTH=3;BYDAY=-1SU
END:DAYLIGHT
BEGIN:STANDARD
TZOFFSETFROM:+0100
TZOFFSETTO:+0000
TZNAME:GMT
DTSTART:20201025T020000Z
RRULE:FREQ=YEARLY;BYMONTH=10;BYDAY=-1SU
END:STANDARD
END:VTIMEZONE
BEGIN:VEVENT
SUMMARY:[FFXIV] Поиск Сокровищ
DTSTAMP:20200621T191432Z
SEQUENCE:0
UID:7342-1-afb15bc42254ad5fb0481ce5e9c8144d@forum.bandits-clan.ru
ORGANIZER;CN="Irdis":web@bandits-clan.ru
DESCRIPTION:Погружаем
	ся в глубины 
	рандома\, в 
	надежде выт
	ащить несметны
	е горы золота и
	з каждого портал
	а. Требования:\nПерс
	онаж 70 уровня или 
	выше\nЛимит групп
	ы - 8 человек. Если
	 желающих будет бол
	ьше - разделимся на разные группы.\
	nПройден квест Treasures and Tribulat
	ions  Рекомендации:\nПрой
	ден сюжет Stormblood для до
	ступа ко всем локаци
	ям\nХотя бы 2 (больше - лучше) 
	карты сокровищ\, в приоритете Timew
	orn Gazelleskin Map (с высоким 
	шансом можно 
	собрать из з
	алежей ресурсо
	в 70 уровня или ку
	пить на маркетб
	орде) Продолжительность:\
	n2-3 часа или пока не кончатся карты http://1.b
	p.blogspot.com/--Nk7v_yfZBs/TsFbLeS64lI/AAAAAAAAAEo/driXyeu4XDU/s1600/trea
	suremaplarge.jpg
DTSTART:20200627T170000Z
ATTENDEE;CN="Irdis";CUTYPE=INDIVIDUAL;PARTSTAT=ACCEPTED:web@
	bandits-clan.ru
ATTENDEE;CN="TricksteR ";CUTYPE=INDIVIDUAL;PARTSTAT=ACCEPTED
	:web@bandits-clan.ru
END:VEVENT
END:VCALENDAR
