BEGIN:VCALENDAR
VERSION:2.0
PRODID:-//InvisionCommunity Events 4.7.14//EN
METHOD:PUBLISH
CALSCALE:GREGORIAN
REFRESH-INTERVAL:PT15M
X-PUBLISHED-TTL:PT15M
X-WR-CALNAME:The Elder Scrolls Online
NAME:The Elder Scrolls Online
BEGIN:VTIMEZONE
TZID:Europe/London
TZURL:http://tzurl.org/zoneinfo/Europe/London
X-LIC-LOCATION:Europe/London
BEGIN:DAYLIGHT
TZOFFSETFROM:+0000
TZOFFSETTO:+0100
TZNAME:BST
DTSTART:20200329T020000Z
RRULE:FREQ=YEARLY;BYMONTH=3;BYDAY=-1SU
END:DAYLIGHT
BEGIN:STANDARD
TZOFFSETFROM:+0100
TZOFFSETTO:+0000
TZNAME:GMT
DTSTART:20201025T020000Z
RRULE:FREQ=YEARLY;BYMONTH=10;BYDAY=-1SU
END:STANDARD
END:VTIMEZONE
BEGIN:VEVENT
SUMMARY:(TESO) Мир Приключений Тамриэля.
	 Игра-квест
DTSTAMP:20200621T174628Z
SEQUENCE:0
UID:7335-1-afb15bc42254ad5fb0481ce5e9c8144d@forum.bandits-clan.ru
ORGANIZER;CN="Bandit":web@bandits-clan.ru
DESCRIPTION: С 14 00 по Мск 
	Невероятные\
	, ужасные. пр
	екрасные\, з
	абавные и уд
	ивительные 
	приключения жд
	ут вас! Весь Та
	мриэль у ваших 
	ног! Спасите 
	дракона\, уб
	ейте нетча 
	Вилкой щек
	отки\, раскр
	ойте престу
	пление или послуж
	ите принцу Даэдра! Тимспик\, канал
	 Мир Приключений.\n0\n\n
DTSTART:20200628T110000Z
END:VEVENT
END:VCALENDAR
