BEGIN:VCALENDAR
VERSION:2.0
PRODID:-//InvisionCommunity Events 4.7.14//EN
METHOD:PUBLISH
CALSCALE:GREGORIAN
REFRESH-INTERVAL:PT15M
X-PUBLISHED-TTL:PT15M
X-WR-CALNAME:The Elder Scrolls Online
NAME:The Elder Scrolls Online
BEGIN:VTIMEZONE
TZID:Europe/London
TZURL:http://tzurl.org/zoneinfo/Europe/London
X-LIC-LOCATION:Europe/London
BEGIN:DAYLIGHT
TZOFFSETFROM:+0000
TZOFFSETTO:+0100
TZNAME:BST
DTSTART:20200329T020000Z
RRULE:FREQ=YEARLY;BYMONTH=3;BYDAY=-1SU
END:DAYLIGHT
BEGIN:STANDARD
TZOFFSETFROM:+0100
TZOFFSETTO:+0000
TZNAME:GMT
DTSTART:20201025T020000Z
RRULE:FREQ=YEARLY;BYMONTH=10;BYDAY=-1SU
END:STANDARD
END:VTIMEZONE
BEGIN:VEVENT
SUMMARY:[FFXIV] Поиск сокровищ
DTSTAMP:20200615T182112Z
SEQUENCE:2
UID:7302-1-afb15bc42254ad5fb0481ce5e9c8144d@forum.bandits-clan.ru
ORGANIZER;CN="Irdis":web@bandits-clan.ru
DESCRIPTION:Погружаем
	ся в глубины 
	рандома\, в наде
	жде вытащить не
	сметные горы золо
	та из каждого портал
	а.\n\nТребования:\nПерсо
	наж 70 уровня или в
	ыше\nЛимит группы 
	- 8 человек. Если же
	лающих будет бол
	ьше - разделимся на раз
	ные группы.\n\nРекомендац
	ии:\nПройден сюжет Stormblo
	od для доступа ко вс
	ем локациям\nХотя бы 2 
	(больше - лучше) карты сокровищ\, в пр
	иоритете Timeworn Gazelleskin Map
	 (с высоким шанс
	ом можно собрат
	ь из залежей рес
	урсов 70 уровня или 
	купить на маркетбо
	рде)\n\nПродолжительность:\n
	2-3 часа или пока не кончатся карты\n\nhttp://1.
	bp.blogspot.com/--Nk7v_yfZBs/TsFbLeS64lI/AAAAAAAAAEo/driXyeu4XDU/s1600/tre
	asuremaplarge.jpg
DTSTART:20200620T170000Z
ATTENDEE;CN="Irdis";CUTYPE=INDIVIDUAL;PARTSTAT=ACCEPTED:web@
	bandits-clan.ru
ATTENDEE;CN="TricksteR ";CUTYPE=INDIVIDUAL;PARTSTAT=ACCEPTED
	:web@bandits-clan.ru
END:VEVENT
END:VCALENDAR
