BEGIN:VCALENDAR
VERSION:2.0
PRODID:-//InvisionCommunity Events 4.7.14//EN
METHOD:PUBLISH
CALSCALE:GREGORIAN
REFRESH-INTERVAL:PT15M
X-PUBLISHED-TTL:PT15M
X-WR-CALNAME:The Elder Scrolls Online
NAME:The Elder Scrolls Online
BEGIN:VTIMEZONE
TZID:Europe/London
TZURL:http://tzurl.org/zoneinfo/Europe/London
X-LIC-LOCATION:Europe/London
BEGIN:DAYLIGHT
TZOFFSETFROM:+0000
TZOFFSETTO:+0100
TZNAME:BST
DTSTART:20200329T020000Z
RRULE:FREQ=YEARLY;BYMONTH=3;BYDAY=-1SU
END:DAYLIGHT
BEGIN:STANDARD
TZOFFSETFROM:+0100
TZOFFSETTO:+0000
TZNAME:GMT
DTSTART:20201025T020000Z
RRULE:FREQ=YEARLY;BYMONTH=10;BYDAY=-1SU
END:STANDARD
END:VTIMEZONE
BEGIN:VEVENT
SUMMARY:[TESO] Семинар по Чародеям ДД в ПвЕ
DTSTAMP:20200615T131438Z
SEQUENCE:1
UID:7295-1-afb15bc42254ad5fb0481ce5e9c8144d@forum.bandits-clan.ru
ORGANIZER;CN="dreemspot":web@bandits-clan.ru
DESCRIPTION:Не пропустите
	! В 14.00 по Моск
	овскому време
	ни! Продолжаем
	 наш ежегодный се
	риал \"Лучшие из
	 лучших\". Пригла
	шаю всех желающ
	их\, на семина
	р по Чародея
	м в мане в 
	ПвЕ! Обязательно! 
	Подготовьте интере
	сующие вас вопросы! Ведущие: buviGu
	vix. Гайд по чародеям: http://forum.bandits-clan.ru/index.p
	hp?showtopic=71585&amp\;do=findComment&amp\;comment=1181522
DTSTART:20200620T110000Z
END:VEVENT
END:VCALENDAR
