BEGIN:VCALENDAR
VERSION:2.0
PRODID:-//InvisionCommunity Events 4.7.14//EN
METHOD:PUBLISH
CALSCALE:GREGORIAN
REFRESH-INTERVAL:PT15M
X-PUBLISHED-TTL:PT15M
X-WR-CALNAME:The Elder Scrolls Online
NAME:The Elder Scrolls Online
BEGIN:VTIMEZONE
TZID:Europe/London
TZURL:http://tzurl.org/zoneinfo/Europe/London
X-LIC-LOCATION:Europe/London
BEGIN:DAYLIGHT
TZOFFSETFROM:+0000
TZOFFSETTO:+0100
TZNAME:BST
DTSTART:20200329T020000Z
RRULE:FREQ=YEARLY;BYMONTH=3;BYDAY=-1SU
END:DAYLIGHT
BEGIN:STANDARD
TZOFFSETFROM:+0100
TZOFFSETTO:+0000
TZNAME:GMT
DTSTART:20201025T020000Z
RRULE:FREQ=YEARLY;BYMONTH=10;BYDAY=-1SU
END:STANDARD
END:VTIMEZONE
BEGIN:VEVENT
SUMMARY:(TESO) СЕМИНАР: класс Чародей(Sorcere
	r) мана\, ПвЕ
DTSTAMP:20200615T042943Z
SEQUENCE:0
UID:7293-1-afb15bc42254ad5fb0481ce5e9c8144d@forum.bandits-clan.ru
ORGANIZER;CN="Bandit":web@bandits-clan.ru
DESCRIPTION:С 14 00 по Мск П
	риглашаем все
	х желающих на семин
	ар цикла \"ЛУЧШИЕ ИЗ ЛУЧШИ
	Х\" Класс Чародей (сорка\, S
	orcerec) в мана-билде в ПвЕ.
	 - Прокачка\, умен
	ия\, нужные скилл
	ы. - Сеты\, их ис
	пользование и
	 популярные м
	еты - Ротация\, секреты
	 и особенности Тимспик\, канал Гильди
	я бойцов.
DTSTART:20200620T110000Z
END:VEVENT
END:VCALENDAR
