BEGIN:VCALENDAR
VERSION:2.0
PRODID:-//InvisionCommunity Events 4.7.14//EN
METHOD:PUBLISH
CALSCALE:GREGORIAN
REFRESH-INTERVAL:PT15M
X-PUBLISHED-TTL:PT15M
X-WR-CALNAME:The Elder Scrolls Online
NAME:The Elder Scrolls Online
BEGIN:VTIMEZONE
TZID:Europe/London
TZURL:http://tzurl.org/zoneinfo/Europe/London
X-LIC-LOCATION:Europe/London
BEGIN:DAYLIGHT
TZOFFSETFROM:+0000
TZOFFSETTO:+0100
TZNAME:BST
DTSTART:20200329T020000Z
RRULE:FREQ=YEARLY;BYMONTH=3;BYDAY=-1SU
END:DAYLIGHT
BEGIN:STANDARD
TZOFFSETFROM:+0100
TZOFFSETTO:+0000
TZNAME:GMT
DTSTART:20201025T020000Z
RRULE:FREQ=YEARLY;BYMONTH=10;BYDAY=-1SU
END:STANDARD
END:VTIMEZONE
BEGIN:VEVENT
SUMMARY:[TESO] Бойцовский клуб - Открытый ту
	рнир
DTSTAMP:20200614T093358Z
SEQUENCE:2
UID:7288-1-afb15bc42254ad5fb0481ce5e9c8144d@forum.bandits-clan.ru
ORGANIZER;CN="Winchester":web@bandits-clan.ru
DESCRIPTION:Бойцовск
	ий клуб: Откр
	ытый турнир! Д
	оступ для всех у
	частников клана
	\, любой уровень\, л
	юбой класс - каж
	дое место будет
	 призовым\, та
	к что не стесняйся и п
	риходи за опытом и золот
	ом  Воскресенье 28/06/20 в 16:00 МСК
	. Призовой фонд: 500 000 з
	олота. TeamSpeak: Бо
	йцовский к
	луб Табарды
	 обязательны
	. Кстати\, с 
	помощью Бойцовского Клуба ты см
	ожешь повысить звание в гильдии 
DTSTART:20200628T130000Z
ATTENDEE;CN="Winchester";CUTYPE=INDIVIDUAL;PARTSTAT=ACCEPTED
	:web@bandits-clan.ru
END:VEVENT
END:VCALENDAR
